BEGIN:VCALENDAR
VERSION:2.0
PRODID:-//ChamberMaster//Event Calendar 2.0//EN
METHOD:PUBLISH
X-PUBLISHED-TTL:P3D
REFRESH-INTERVAL:P3D
CALSCALE:GREGORIAN
BEGIN:VEVENT
DTSTART:20090211T060000Z
DTEND:20090211T060000Z
X-MICROSOFT-CDO-ALLDAYEVENT:FALSE
SUMMARY:Community Leadership Event - Bob Ash
DESCRIPTION:Community Leadership Event - Bob Ash
X-ALT-DESC;FMTTYPE=text/html:Community Leadership Event - Bob Ash
LOCATION:Baylor Medical Center ( Conference Room A & B)
UID:e.2096.1960
SEQUENCE:3
DTSTAMP:20260424T075841Z
URL:https://network.garlandchamber.com/events/details/community-leadership-event-bob-ash-02-11-2009-1960
END:VEVENT

END:VCALENDAR
