BEGIN:VCALENDAR
VERSION:2.0
PRODID:-//ChamberMaster//Event Calendar 2.0//EN
METHOD:PUBLISH
X-PUBLISHED-TTL:P3D
REFRESH-INTERVAL:P3D
CALSCALE:GREGORIAN
BEGIN:VEVENT
DTSTART:20090324T190000Z
DTEND:20090324T050000Z
X-MICROSOFT-CDO-ALLDAYEVENT:FALSE
SUMMARY:Congressman Jeb Hensarling's Small Business Forums
DESCRIPTION:
X-ALT-DESC;FMTTYPE=text/html:
LOCATION:South Garland Library
UID:e.2096.655
SEQUENCE:3
DTSTAMP:20260424T075917Z
URL:https://network.garlandchamber.com/events/details/congressman-jeb-hensarling-s-small-business-forums-03-24-2009-655
END:VEVENT

END:VCALENDAR
