BEGIN:VCALENDAR
VERSION:2.0
PRODID:-//ChamberMaster//Event Calendar 2.0//EN
METHOD:PUBLISH
X-PUBLISHED-TTL:P3D
REFRESH-INTERVAL:P3D
CALSCALE:GREGORIAN
BEGIN:VEVENT
DTSTART:20101110T134500Z
DTEND:20101110T144500Z
X-MICROSOFT-CDO-ALLDAYEVENT:FALSE
SUMMARY:Connecting to Clients with Personality Styles
DESCRIPTION:
X-ALT-DESC;FMTTYPE=text/html:
LOCATION:ViewPoint Bank
UID:e.2096.848
SEQUENCE:3
DTSTAMP:20260423T023700Z
URL:https://network.garlandchamber.com/events/details/connecting-to-clients-with-personality-styles-11-10-2010-848
END:VEVENT

END:VCALENDAR
