BEGIN:VCALENDAR
VERSION:2.0
PRODID:-//ChamberMaster//Event Calendar 2.0//EN
METHOD:PUBLISH
X-PUBLISHED-TTL:P3D
REFRESH-INTERVAL:P3D
CALSCALE:GREGORIAN
BEGIN:VEVENT
DTSTART:20100908T170000Z
DTEND:20100908T180000Z
X-MICROSOFT-CDO-ALLDAYEVENT:FALSE
SUMMARY:Creating an Outrageously Successful Organization
DESCRIPTION:
X-ALT-DESC;FMTTYPE=text/html:<DIV>&nbsp\;</DIV>
LOCATION:Garland Chamber Office
UID:e.2096.826
SEQUENCE:3
DTSTAMP:20260423T052307Z
URL:https://network.garlandchamber.com/events/details/creating-an-outrageously-successful-organization-09-08-2010-826
END:VEVENT

END:VCALENDAR
