BEGIN:VCALENDAR
VERSION:2.0
PRODID:-//ChamberMaster//Event Calendar 2.0//EN
METHOD:PUBLISH
X-PUBLISHED-TTL:P3D
REFRESH-INTERVAL:P3D
CALSCALE:GREGORIAN
BEGIN:VEVENT
DTSTART:20120609T130000Z
DTEND:20120609T160000Z
X-MICROSOFT-CDO-ALLDAYEVENT:FALSE
SUMMARY:CrossFit for Hope
DESCRIPTION:Lake Area Affiliates CrossFit for HopeBenefitting St. Jude Children's Research Hospital Join us for a Great Time and a Great CauseDate: June 9\, 2012Time: 8 to 11 a.m.Location: Garland Fire Administration Building Training CenterAddress: 1500 State Highway 66\, Garland\, TX 75040 Click here to register for this event. A minimum donation of $45 per adult participant and $20 per child must be raised in order to participate. All participants will receive an event t-shirt and free food and beveraages. Donations may also be made on the day of the event or at CrossFit Garland\, located at 109 S. Sixth St.\, Garland\, TX 75040 * This event is open to the public. There is no cost for spectators to attend. Bring the family out to enjoy the bounce house and dunking booth. See the Event Flyer
X-ALT-DESC;FMTTYPE=text/html:<DIV style="FONT-FAMILY: Arial">Lake Area Affiliates CrossFit for Hope</DIV><DIV style="FONT-FAMILY: Arial">Benefitting St. Jude Children's Research Hospital</DIV><DIV style="FONT-FAMILY: Arial">&nbsp\;</DIV><DIV style="FONT-FAMILY: Arial">Join us for a Great Time and a Great Cause</DIV><DIV style="FONT-FAMILY: Arial">Date: June 9\, 2012</DIV><DIV style="FONT-FAMILY: Arial">Time: 8 to 11 a.m.</DIV><DIV style="FONT-FAMILY: Arial">Location: Garland Fire Administration Building Training Center</DIV><DIV style="FONT-FAMILY: Arial">Address: 1500 State Highway 66\, Garland\, TX 75040</DIV><DIV style="FONT-FAMILY: Arial">&nbsp\;</DIV><DIV style="FONT-FAMILY: Arial"><A dataFld=0:0 href="https://3q-fitness.zenplanner.com/zenplanner/portal/calendar.cfm?VIEW=LIST&amp\;CalendarType=EVENT&amp\;DATE=2012-06-09">Click here</A> to register for this event. A minimum donation of $45 per adult participant and $20 per child must be raised in order to participate. All participants will receive an event t-shirt and free food and beveraages. Donations may also be made on the day of the event or at CrossFit Garland\, located at 109 S. Sixth St.\, Garland\, TX 75040</DIV><DIV style="FONT-FAMILY: Arial">&nbsp\;</DIV><DIV style="FONT-FAMILY: Arial">* This event is open to the public. There is no cost for spectators to attend. Bring the family out to enjoy the bounce house and dunking booth.</DIV><DIV style="FONT-FAMILY: Arial">&nbsp\;</DIV><DIV style="FONT-FAMILY: Arial"><A dataFld=0:0 href="http://www.garlandchamber.com/images/stories/chamber/CrossFit%20For%20Hope%20Flyer%202012.pdf">See the Event Flyer</A></DIV>
LOCATION:Garland Fire Administration Building Training Center
UID:e.2096.1054
SEQUENCE:3
DTSTAMP:20260421T233457Z
URL:https://network.garlandchamber.com/events/details/crossfit-for-hope-06-09-2012-1054
END:VEVENT

END:VCALENDAR
