BEGIN:VCALENDAR
VERSION:2.0
PRODID:-//ChamberMaster//Event Calendar 2.0//EN
METHOD:PUBLISH
X-PUBLISHED-TTL:P3D
REFRESH-INTERVAL:P3D
CALSCALE:GREGORIAN
BEGIN:VEVENT
DTSTART:20100923T220000Z
DTEND:20100924T010000Z
X-MICROSOFT-CDO-ALLDAYEVENT:FALSE
SUMMARY:Dallas Memory Walk 2010 Fundraising Event
DESCRIPTION:
X-ALT-DESC;FMTTYPE=text/html:
LOCATION:D'Vine Wine - Firewheel Town Center
UID:e.2096.446
SEQUENCE:3
DTSTAMP:20260423T052704Z
URL:https://network.garlandchamber.com/events/details/dallas-memory-walk-2010-fundraising-event-09-23-2010-446
END:VEVENT

END:VCALENDAR
