BEGIN:VCALENDAR
VERSION:2.0
PRODID:-//ChamberMaster//Event Calendar 2.0//EN
METHOD:PUBLISH
X-PUBLISHED-TTL:P3D
REFRESH-INTERVAL:P3D
CALSCALE:GREGORIAN
BEGIN:VEVENT
DTSTART:20111004T050000Z
DTEND:20111004T050000Z
X-MICROSOFT-CDO-ALLDAYEVENT:FALSE
SUMMARY:Dallas Regional Retail Market Update
DESCRIPTION:Dallas Regional Retail Market Update
X-ALT-DESC;FMTTYPE=text/html:Dallas Regional Retail Market Update
LOCATION:Richland College Garland Campus
UID:e.2096.2330
SEQUENCE:3
DTSTAMP:20260422T105210Z
URL:https://network.garlandchamber.com/events/details/dallas-regional-retail-market-update-10-04-2011-2330
END:VEVENT

END:VCALENDAR
