BEGIN:VCALENDAR
VERSION:2.0
PRODID:-//ChamberMaster//Event Calendar 2.0//EN
METHOD:PUBLISH
X-PUBLISHED-TTL:P3D
REFRESH-INTERVAL:P3D
CALSCALE:GREGORIAN
BEGIN:VEVENT
DTSTART:20130530T130000Z
DTEND:20130530T150000Z
X-MICROSOFT-CDO-ALLDAYEVENT:FALSE
SUMMARY:Dallas SBDC Biz Wake Up Call
DESCRIPTION:
X-ALT-DESC;FMTTYPE=text/html:
LOCATION:Dallas Small Business Development Center
UID:e.2096.1191
SEQUENCE:3
DTSTAMP:20260421T073939Z
URL:https://network.garlandchamber.com/events/details/dallas-sbdc-biz-wake-up-call-05-30-2013-1191
END:VEVENT

END:VCALENDAR
