BEGIN:VCALENDAR
VERSION:2.0
PRODID:-//ChamberMaster//Event Calendar 2.0//EN
METHOD:PUBLISH
X-PUBLISHED-TTL:P3D
REFRESH-INTERVAL:P3D
CALSCALE:GREGORIAN
BEGIN:VEVENT
DTSTART:20100310T060000Z
DTEND:20100322T050000Z
X-MICROSOFT-CDO-ALLDAYEVENT:FALSE
SUMMARY:DART Public Hearing Community Meetings
DESCRIPTION:
X-ALT-DESC;FMTTYPE=text/html:
LOCATION:Locations Vary
UID:e.2096.572
SEQUENCE:3
DTSTAMP:20260423T134053Z
URL:https://network.garlandchamber.com/events/details/dart-public-hearing-community-meetings-03-10-2010-572
END:VEVENT

END:VCALENDAR
