BEGIN:VCALENDAR
VERSION:2.0
PRODID:-//ChamberMaster//Event Calendar 2.0//EN
METHOD:PUBLISH
X-PUBLISHED-TTL:P3D
REFRESH-INTERVAL:P3D
CALSCALE:GREGORIAN
BEGIN:VEVENT
DTSTART:20111110T060000Z
DTEND:20111110T060000Z
X-MICROSOFT-CDO-ALLDAYEVENT:FALSE
SUMMARY:DCMA End of Year Celebration
DESCRIPTION:DCMA End of Year Celebration
X-ALT-DESC;FMTTYPE=text/html:DCMA End of Year Celebration
LOCATION:Top Golf
UID:e.2096.2333
SEQUENCE:3
DTSTAMP:20260422T104536Z
URL:https://network.garlandchamber.com/events/details/dcma-end-of-year-celebration-11-10-2011-2333
END:VEVENT

END:VCALENDAR
