BEGIN:VCALENDAR
VERSION:2.0
PRODID:-//ChamberMaster//Event Calendar 2.0//EN
METHOD:PUBLISH
X-PUBLISHED-TTL:P3D
REFRESH-INTERVAL:P3D
CALSCALE:GREGORIAN
BEGIN:VEVENT
DTSTART:20120621T050000Z
DTEND:20120621T050000Z
X-MICROSOFT-CDO-ALLDAYEVENT:FALSE
SUMMARY:DCMA Happy Hour
DESCRIPTION:DCMA Happy Hour
X-ALT-DESC;FMTTYPE=text/html:DCMA Happy Hour
LOCATION:On the Border
UID:e.2096.2455
SEQUENCE:3
DTSTAMP:20260421T233328Z
URL:https://network.garlandchamber.com/events/details/dcma-happy-hour-06-21-2012-2455
END:VEVENT

END:VCALENDAR
