BEGIN:VCALENDAR
VERSION:2.0
PRODID:-//ChamberMaster//Event Calendar 2.0//EN
METHOD:PUBLISH
X-PUBLISHED-TTL:P3D
REFRESH-INTERVAL:P3D
CALSCALE:GREGORIAN
BEGIN:VEVENT
DTSTART:20111201T220000Z
DTEND:20111202T000000Z
X-MICROSOFT-CDO-ALLDAYEVENT:FALSE
SUMMARY:DCMA Happy Hour
DESCRIPTION:
X-ALT-DESC;FMTTYPE=text/html:
LOCATION:On the Border
UID:e.2096.980
SEQUENCE:3
DTSTAMP:20260422T075352Z
URL:https://network.garlandchamber.com/events/details/dcma-happy-hour-12-01-2011-980
END:VEVENT

END:VCALENDAR
