BEGIN:VCALENDAR
VERSION:2.0
PRODID:-//ChamberMaster//Event Calendar 2.0//EN
METHOD:PUBLISH
X-PUBLISHED-TTL:P3D
REFRESH-INTERVAL:P3D
CALSCALE:GREGORIAN
BEGIN:VEVENT
DTSTART:20080506T050000Z
DTEND:20080506T050000Z
X-MICROSOFT-CDO-ALLDAYEVENT:FALSE
SUMMARY:DCMA Lean Accounting
DESCRIPTION:DCMA Lean Accounting
X-ALT-DESC;FMTTYPE=text/html:DCMA Lean Accounting
LOCATION:Garland Police Department\, Multipurpose Room
UID:e.2096.1857
SEQUENCE:3
DTSTAMP:20260424T200349Z
URL:https://network.garlandchamber.com/events/details/dcma-lean-accounting-05-06-2008-1857
END:VEVENT

END:VCALENDAR
