BEGIN:VCALENDAR
VERSION:2.0
PRODID:-//ChamberMaster//Event Calendar 2.0//EN
METHOD:PUBLISH
X-PUBLISHED-TTL:P3D
REFRESH-INTERVAL:P3D
CALSCALE:GREGORIAN
BEGIN:VEVENT
DTSTART:20151002T123000Z
DTEND:20151002T140000Z
X-MICROSOFT-CDO-ALLDAYEVENT:FALSE
SUMMARY:DCMA Manufacturing Day 2015
DESCRIPTION:Provide a venue to encourage national recognition of Garland's Manufacturing Industry by building local awareness.
X-ALT-DESC;FMTTYPE=text/html:<span style="font-family:nexa light\;"><span style="font-size:10.0pt\;">Provide a venue to encourage national recognition of Garland&rsquo\;s Manufacturing Industry by building local awareness.</span></span>
LOCATION:Richland College Garland Campus - Gallery 675 W. Walnut Street Garland\, Texas 75040
UID:e.2096.2798
SEQUENCE:3
DTSTAMP:20260419T133430Z
URL:https://network.garlandchamber.com/events/details/dcma-manufacturing-day-2015-2798
END:VEVENT

END:VCALENDAR
