BEGIN:VCALENDAR
VERSION:2.0
PRODID:-//ChamberMaster//Event Calendar 2.0//EN
METHOD:PUBLISH
X-PUBLISHED-TTL:P3D
REFRESH-INTERVAL:P3D
CALSCALE:GREGORIAN
BEGIN:VEVENT
DTSTART:20080313T050000Z
DTEND:20080313T050000Z
X-MICROSOFT-CDO-ALLDAYEVENT:FALSE
SUMMARY:DCMA Mayor's Reception
DESCRIPTION:DCMA Mayor's Reception
X-ALT-DESC;FMTTYPE=text/html:DCMA Mayor&#39\;s Reception
LOCATION:The Atrium\, Granville Arts Center
UID:e.2096.1824
SEQUENCE:3
DTSTAMP:20260424T225347Z
URL:https://network.garlandchamber.com/events/details/dcma-mayor-s-reception-03-13-2008-1824
END:VEVENT

END:VCALENDAR
