BEGIN:VCALENDAR
VERSION:2.0
PRODID:-//ChamberMaster//Event Calendar 2.0//EN
METHOD:PUBLISH
X-PUBLISHED-TTL:P3D
REFRESH-INTERVAL:P3D
CALSCALE:GREGORIAN
BEGIN:VEVENT
DTSTART:20070612T050000Z
DTEND:20070612T050000Z
X-MICROSOFT-CDO-ALLDAYEVENT:FALSE
SUMMARY:DCMA Member Meeting
DESCRIPTION:DCMA Member Meeting
X-ALT-DESC;FMTTYPE=text/html:DCMA Member Meeting
LOCATION:The Atrium\, Granville Arts Center
UID:e.2096.1712
SEQUENCE:3
DTSTAMP:20260425T133245Z
URL:https://network.garlandchamber.com/events/details/dcma-member-meeting-06-12-2007-1712
END:VEVENT

END:VCALENDAR
