BEGIN:VCALENDAR
VERSION:2.0
PRODID:-//ChamberMaster//Event Calendar 2.0//EN
METHOD:PUBLISH
X-PUBLISHED-TTL:P3D
REFRESH-INTERVAL:P3D
CALSCALE:GREGORIAN
BEGIN:VEVENT
DTSTART:20090401T163000Z
DTEND:20090401T060000Z
X-MICROSOFT-CDO-ALLDAYEVENT:FALSE
SUMMARY:DCMA Membership meeting - Legislative update
DESCRIPTION:
X-ALT-DESC;FMTTYPE=text/html:
LOCATION:The Atrium at Patty Granville Arts Center
UID:e.2096.657
SEQUENCE:3
DTSTAMP:20260424T052106Z
URL:https://network.garlandchamber.com/events/details/dcma-membership-meeting-legislative-update-04-01-2009-657
END:VEVENT

END:VCALENDAR
