BEGIN:VCALENDAR
VERSION:2.0
PRODID:-//ChamberMaster//Event Calendar 2.0//EN
METHOD:PUBLISH
X-PUBLISHED-TTL:P3D
REFRESH-INTERVAL:P3D
CALSCALE:GREGORIAN
BEGIN:VEVENT
DTSTART:20100826T230000Z
DTEND:20100827T030000Z
X-MICROSOFT-CDO-ALLDAYEVENT:FALSE
SUMMARY:DCMA Texas Rangers Ballgame
DESCRIPTION:
X-ALT-DESC;FMTTYPE=text/html:
LOCATION:
UID:e.2096.825
SEQUENCE:3
DTSTAMP:20260423T065225Z
URL:https://network.garlandchamber.com/events/details/dcma-texas-rangers-ballgame-08-26-2010-825
END:VEVENT

END:VCALENDAR
