BEGIN:VCALENDAR
VERSION:2.0
PRODID:-//ChamberMaster//Event Calendar 2.0//EN
METHOD:PUBLISH
X-PUBLISHED-TTL:P3D
REFRESH-INTERVAL:P3D
CALSCALE:GREGORIAN
BEGIN:VEVENT
DTSTART:20081104T060000Z
DTEND:20081104T060000Z
X-MICROSOFT-CDO-ALLDAYEVENT:FALSE
SUMMARY:DCMA Wellness Program
DESCRIPTION:DCMA Wellness Program
X-ALT-DESC;FMTTYPE=text/html:DCMA Wellness Program
LOCATION:Garrett Metal Detectors
UID:e.2096.1924
SEQUENCE:3
DTSTAMP:20260424T120950Z
URL:https://network.garlandchamber.com/events/details/dcma-wellness-program-11-04-2008-1924
END:VEVENT

END:VCALENDAR
