BEGIN:VCALENDAR
VERSION:2.0
PRODID:-//ChamberMaster//Event Calendar 2.0//EN
METHOD:PUBLISH
X-PUBLISHED-TTL:P3D
REFRESH-INTERVAL:P3D
CALSCALE:GREGORIAN
BEGIN:VEVENT
DTSTART:20120809T130000Z
DTEND:20120809T190000Z
X-MICROSOFT-CDO-ALLDAYEVENT:FALSE
SUMMARY:Deal Day 2012
DESCRIPTION:The Dallas Small Business Development Center\, in collaboration with the Small Business Administration\, presents Deal Day 2012 - Maximizing Business Success Through Funding. Meet one-on-one with more than 20 lenders\, establish relationships and learn about alternative ways to fund your business through this free workshop. Additional details including keynote speaker and registration information are available in the flyer below. Call (214) 860-5859/5848 to register. See the Additional Details
X-ALT-DESC;FMTTYPE=text/html:<DIV style="FONT-FAMILY: Arial">The Dallas Small Business Development Center\, in collaboration with the Small Business Administration\, presents Deal Day 2012 - Maximizing Business Success Through Funding.</DIV><DIV style="FONT-FAMILY: Arial">&nbsp\;</DIV><DIV style="FONT-FAMILY: Arial">Meet one-on-one with more than 20 lenders\, establish relationships and learn about alternative ways to fund your business through this free workshop. Additional details including keynote speaker and registration information are available in the flyer below.</DIV><DIV style="FONT-FAMILY: Arial">&nbsp\;</DIV><DIV style="FONT-FAMILY: Arial">Call (214) 860-5859/5848 to register.</DIV><DIV style="FONT-FAMILY: Arial">&nbsp\;</DIV><DIV style="FONT-FAMILY: Arial"><A dataFld=0:0 href="http://www.ntsbdc.org/supercali/show_event.php?id=288">See the Additional Details</A></DIV>
LOCATION:Bill J. Priest Institute
UID:e.2096.1068
SEQUENCE:3
DTSTAMP:20260421T204333Z
URL:https://network.garlandchamber.com/events/details/deal-day-2012-08-09-2012-1068
END:VEVENT

END:VCALENDAR
