BEGIN:VCALENDAR
VERSION:2.0
PRODID:-//ChamberMaster//Event Calendar 2.0//EN
METHOD:PUBLISH
X-PUBLISHED-TTL:P3D
REFRESH-INTERVAL:P3D
CALSCALE:GREGORIAN
BEGIN:VEVENT
DTSTART:20120809T123000Z
DTEND:20120809T200000Z
X-MICROSOFT-CDO-ALLDAYEVENT:FALSE
SUMMARY:Deal Day - SBDC Workshop
DESCRIPTION:Now that you've prepared your business plan after attending Pre-Deal Day\, meet one-on-one with more than 20 bankers in the community to discuss loans or lines of credit for your business. This event usually has more than 200 participants and includes keynote speakers\, and a small business award ceremony. Admission is free\, check back for registration information. See a full calendar of all seminars available through the North Texas Small Business Development Center
X-ALT-DESC;FMTTYPE=text/html:<DIV style="FONT-FAMILY: Arial">Now that you've prepared your business plan after attending Pre-Deal Day\, meet one-on-one with more than 20 bankers in the community to discuss loans or lines of credit for your business. This event usually has more than 200 participants and includes keynote speakers\, and a small business award ceremony.</DIV><DIV style="FONT-FAMILY: Arial">&nbsp\;</DIV><DIV style="FONT-FAMILY: Arial">Admission is free\, check back for registration information.</DIV><DIV style="FONT-FAMILY: Arial">&nbsp\;</DIV><DIV style="FONT-FAMILY: Arial"><A dataFld=0:0 href="http://ntsbdc.org/supercali/index.php?o=2&amp\;w=1&amp\;c=1&amp\;m=05&amp\;a=1&amp\;y=2012">See a full calendar of all seminars available through the North Texas Small Business Development Center</A></DIV>
LOCATION:Bill J. Priest Institute at El Centro College
UID:e.2096.1034
SEQUENCE:3
DTSTAMP:20260421T204404Z
URL:https://network.garlandchamber.com/events/details/deal-day-sbdc-workshop-08-09-2012-1034
END:VEVENT

END:VCALENDAR
