BEGIN:VCALENDAR
VERSION:2.0
PRODID:-//ChamberMaster//Event Calendar 2.0//EN
METHOD:PUBLISH
X-PUBLISHED-TTL:P3D
REFRESH-INTERVAL:P3D
CALSCALE:GREGORIAN
BEGIN:VEVENT
DTSTART:20081216T140000Z
DTEND:20081216T150000Z
X-MICROSOFT-CDO-ALLDAYEVENT:FALSE
SUMMARY:December A.M. Connections Event - CANCELED
DESCRIPTION:The A.M. Connections event scheduled for Dec. 16th has been CANCELED. We will have a P.M. Connections Event on January 29\, 2008 at 5:30 p.m. at Colonial Savings (2006 N. Garland Ave. - Garland\, TX 75040). See you there!
X-ALT-DESC;FMTTYPE=text/html:<FONT face=Tahoma color=#ff0000 size=5><FONT color=#008000>The&nbsp\;A.M. Connections event scheduled for Dec. 16th&nbsp\;has been CANCELED</FONT><FONT color=#000000>. We will have a P.M. Connections Event on January 29\, 2008 at 5:30 p.m. at Colonial Savings (2006 N. Garland Ave. - Garland\, TX 75040). See you there!</FONT></FONT><DIV>&nbsp\;</DIV>
LOCATION:
UID:e.2096.605
SEQUENCE:3
DTSTAMP:20260424T120828Z
URL:https://network.garlandchamber.com/events/details/december-a-m-connections-event-canceled-12-16-2008-605
END:VEVENT

END:VCALENDAR
