BEGIN:VCALENDAR
VERSION:2.0
PRODID:-//ChamberMaster//Event Calendar 2.0//EN
METHOD:PUBLISH
X-PUBLISHED-TTL:P3D
REFRESH-INTERVAL:P3D
CALSCALE:GREGORIAN
BEGIN:VEVENT
DTSTART:20120713T170000Z
DTEND:20120713T183000Z
X-MICROSOFT-CDO-ALLDAYEVENT:FALSE
SUMMARY:Dementia and Neuropsychological Testing
DESCRIPTION:Autumn Leaves of Richardson/N. Garland presents: Dementia and Neuropsychological TestingPresented by: Eric N. Smernoff\, Ph.D.Licensed Clinical Psychologist with Baylor Neuroscience Center\, Memory Center Lunch provided. See the Event Flyer
X-ALT-DESC;FMTTYPE=text/html:<DIV style="FONT-FAMILY: Arial">Autumn Leaves of Richardson/N. Garland presents:</DIV><DIV style="FONT-FAMILY: Arial">&nbsp\;</DIV><DIV style="FONT-FAMILY: Arial">Dementia and Neuropsychological Testing</DIV><DIV style="FONT-FAMILY: Arial">Presented by: Eric N. Smernoff\, Ph.D.</DIV><DIV style="FONT-FAMILY: Arial">Licensed Clinical Psychologist with Baylor Neuroscience Center\, Memory Center</DIV><DIV style="FONT-FAMILY: Arial">&nbsp\;</DIV><DIV style="FONT-FAMILY: Arial">Lunch provided.</DIV><DIV style="FONT-FAMILY: Arial">&nbsp\;</DIV><DIV style="FONT-FAMILY: Arial"><A dataFld=0:0 href="http://www.garlandchamber.com/images/stories/chamber/Member%20Promotions/ALGarlandMemCareResid%20Talks-July13andAug9.pdf">See the Event Flyer</A></DIV>
LOCATION:Autumn Leaves of Richardson/N. Garland Memory Care Residence
UID:e.2096.1065
SEQUENCE:3
DTSTAMP:20260421T220719Z
URL:https://network.garlandchamber.com/events/details/dementia-and-neuropsychological-testing-07-13-2012-1065
END:VEVENT

END:VCALENDAR
