BEGIN:VCALENDAR
VERSION:2.0
PRODID:-//ChamberMaster//Event Calendar 2.0//EN
METHOD:PUBLISH
X-PUBLISHED-TTL:P3D
REFRESH-INTERVAL:P3D
CALSCALE:GREGORIAN
BEGIN:VEVENT
DTSTART:20090327T170000Z
DTEND:20090327T050000Z
X-MICROSOFT-CDO-ALLDAYEVENT:FALSE
SUMMARY:Dickey's BBQ Pit Ribbon Cutting Ceremony
DESCRIPTION:
X-ALT-DESC;FMTTYPE=text/html:
LOCATION:Dickey's BBQ Pit
UID:e.2096.656
SEQUENCE:3
DTSTAMP:20260424T075933Z
URL:https://network.garlandchamber.com/events/details/dickey-s-bbq-pit-ribbon-cutting-ceremony-03-27-2009-656
END:VEVENT

END:VCALENDAR
