BEGIN:VCALENDAR
VERSION:2.0
PRODID:-//ChamberMaster//Event Calendar 2.0//EN
METHOD:PUBLISH
X-PUBLISHED-TTL:P3D
REFRESH-INTERVAL:P3D
CALSCALE:GREGORIAN
BEGIN:VEVENT
DTSTART:20121027T123000Z
DTEND:20121027T180000Z
X-MICROSOFT-CDO-ALLDAYEVENT:FALSE
SUMMARY:Digital Mammography Spa Days
DESCRIPTION:The doctors at Baylor Medical Center understand that life is hectic - so they've made time for you to receive a life-saving screening. Baylor Garland is offering Digital Mammography Spa Days every Saturday in October! Refreshments * Free Parking * Chair Massage * Free Gift Call 1.800.4BAYLOR and schedule your mammogram today! See the Event Flyer for Additional Details
X-ALT-DESC;FMTTYPE=text/html:<DIV style="FONT-FAMILY: Arial">The doctors at Baylor Medical Center understand that life is hectic - so they've made time for you to receive a life-saving screening. Baylor Garland is offering Digital Mammography Spa Days every Saturday in October!</DIV><DIV style="FONT-FAMILY: Arial">&nbsp\;</DIV><DIV style="FONT-FAMILY: Arial">Refreshments * Free Parking * Chair Massage * Free Gift</DIV><DIV style="FONT-FAMILY: Arial">&nbsp\;</DIV><DIV style="FONT-FAMILY: Arial">Call 1.800.4BAYLOR and schedule your mammogram today!</DIV><DIV style="FONT-FAMILY: Arial">&nbsp\;</DIV><DIV style="FONT-FAMILY: Arial"><A dataFld=0:0 href="http://www.garlandchamber.com/images/stories/chamber/Member%20Promotions/Baylor%20Mammography%20Spa%20Days.pdf">See the Event Flyer for Additional Details</A></DIV>
LOCATION:Baylor Medical Center at Garland
UID:e.2096.1095
SEQUENCE:3
DTSTAMP:20260421T175512Z
URL:https://network.garlandchamber.com/events/details/digital-mammography-spa-days-10-27-2012-1095
END:VEVENT

END:VCALENDAR
