BEGIN:VCALENDAR
VERSION:2.0
PRODID:-//ChamberMaster//Event Calendar 2.0//EN
METHOD:PUBLISH
X-PUBLISHED-TTL:P3D
REFRESH-INTERVAL:P3D
CALSCALE:GREGORIAN
BEGIN:VEVENT
DTSTART:20091118T060000Z
DTEND:20091118T060000Z
X-MICROSOFT-CDO-ALLDAYEVENT:FALSE
SUMMARY:Digital Mobile Mammogram Unit at General Dymnamics
DESCRIPTION:
X-ALT-DESC;FMTTYPE=text/html:
LOCATION:General Dynamics
UID:e.2096.722
SEQUENCE:3
DTSTAMP:20260423T192422Z
URL:https://network.garlandchamber.com/events/details/digital-mobile-mammogram-unit-at-general-dymnamics-11-18-2009-722
END:VEVENT

END:VCALENDAR
