BEGIN:VCALENDAR
VERSION:2.0
PRODID:-//ChamberMaster//Event Calendar 2.0//EN
METHOD:PUBLISH
X-PUBLISHED-TTL:P3D
REFRESH-INTERVAL:P3D
CALSCALE:GREGORIAN
BEGIN:VEVENT
DTSTART:20150416T130000Z
DTEND:20150416T143000Z
X-MICROSOFT-CDO-ALLDAYEVENT:FALSE
SUMMARY:Direct Connect
DESCRIPTION:Join us for a free\, morning networking event designed to help you form strategic\, valuable connections.
X-ALT-DESC;FMTTYPE=text/html:<p>Join us for a free\, morning networking event designed to help you form strategic\, valuable connections.</p>\n\n<p>&nbsp\;</p>\n
LOCATION:Curtis Culwell Center 4999 Naaman Forest Blvd Garland\, TX 75040
UID:e.2096.2781
SEQUENCE:3
DTSTAMP:20260419T223739Z
URL:https://network.garlandchamber.com/events/details/direct-connect-04-16-2015-2781
END:VEVENT

END:VCALENDAR
