BEGIN:VCALENDAR
VERSION:2.0
PRODID:-//ChamberMaster//Event Calendar 2.0//EN
METHOD:PUBLISH
X-PUBLISHED-TTL:P3D
REFRESH-INTERVAL:P3D
CALSCALE:GREGORIAN
BEGIN:VEVENT
DTSTART:20150716T123000Z
DTEND:20150716T140000Z
X-MICROSOFT-CDO-ALLDAYEVENT:FALSE
SUMMARY:Direct Connect
DESCRIPTION:Join us for a free\, morning networking event designed to help you form strategic\, valuable connections.
X-ALT-DESC;FMTTYPE=text/html:<p>Join us for a free\, morning networking event designed to help you form strategic\, valuable connections.</p>\n\n<p>&nbsp\;</p>\n
LOCATION:Garland Chamber of Commerce
UID:e.2096.2784
SEQUENCE:3
DTSTAMP:20260419T160831Z
URL:https://network.garlandchamber.com/events/details/direct-connect-07-16-2015-2784
END:VEVENT

END:VCALENDAR
