BEGIN:VCALENDAR
VERSION:2.0
PRODID:-//ChamberMaster//Event Calendar 2.0//EN
METHOD:PUBLISH
X-PUBLISHED-TTL:P3D
REFRESH-INTERVAL:P3D
CALSCALE:GREGORIAN
BEGIN:VEVENT
DTSTART:20130418T130000Z
DTEND:20130418T140000Z
X-MICROSOFT-CDO-ALLDAYEVENT:FALSE
SUMMARY:Direct Connect at the Expo
DESCRIPTION:In order to maximize networking options\, in April\, the Garland Chamber will host Direct Connect at the Curtis Culwell Center in conjunction with our 4th Annual Business Expo. Kick off the day with one of our most strategic networking opportunities available through Direct Connect and then check out the products\, services and partnerships available through fellow Chamber member exhibitors at the Business Expo. -----We want to help you expand your network through Direct Connect. Breakfast and registration begin at 7:30 a.m.\, the program begins at 8.Contact Jami Manners at jami.manners@garlandchamber.com for more information.
X-ALT-DESC;FMTTYPE=text/html:<P>In order to maximize networking options\, in April\, the Garland Chamber will host Direct Connect at the Curtis Culwell Center in conjunction with our 4th Annual Business Expo. Kick off the day with one of our most strategic networking opportunities available through Direct Connect and then check out the products\, services and partnerships available through fellow Chamber member exhibitors at the Business Expo. </P><P>-----</P><P>We want to help you expand your network through Direct Connect. </P><P>Breakfast and registration begin at 7:30 a.m.\, the program begins at 8.</P><P>Contact Jami Manners at <A href="mailto:jami.manners@garlandchamber.com">jami.manners@garlandchamber.com</A></A> for more information.</P>
LOCATION:Curtis Culwell Center
UID:e.2096.1123
SEQUENCE:3
DTSTAMP:20260421T090019Z
URL:https://network.garlandchamber.com/events/details/direct-connect-at-the-expo-04-18-2013-1123
END:VEVENT

END:VCALENDAR
