BEGIN:VCALENDAR
VERSION:2.0
PRODID:-//ChamberMaster//Event Calendar 2.0//EN
METHOD:PUBLISH
X-PUBLISHED-TTL:P3D
REFRESH-INTERVAL:P3D
CALSCALE:GREGORIAN
BEGIN:VEVENT
DTSTART:20120816T130000Z
DTEND:20120816T140000Z
X-MICROSOFT-CDO-ALLDAYEVENT:FALSE
SUMMARY:Direct Connect August 2012
DESCRIPTION:Join us for a free\, morning networking event designed to help you form strategic\, valuable connections. Each member in attendance will get an opportunity to introduce him or herself to the group as well as one-on-one time with another attendee and time to mingle.\n\nPaul Mayer\, CEO\, and Kisha Allen\, Director of Member Services\, will be in attendance to help make introductions and connections.\n\nAttendees will each leave with a "Tips to Take with You" informational brochure to help ensure maximum results from each networking attempt. We want to help you expand your network through "Direct Connect."\n\nOur August event is sponsored by: ActionCOACH\n\nBreakfast and registration begin at 7:30 a.m.\, the program begins at 8.
X-ALT-DESC;FMTTYPE=text/html:<p>Join us for a free\, morning networking event designed to help you form strategic\, valuable connections. Each member in attendance will get an opportunity to introduce him or herself to the group as well as one-on-one time with another attendee and time to mingle.</p>\n\n<p>Paul Mayer\, CEO\, and Kisha Allen\, Director of Member Services\, will be in attendance to help make introductions and connections.</p>\n\n<p>Attendees will each leave with a "Tips to Take with You" informational brochure to help ensure maximum results from each networking attempt. We want to help you expand your network through "Direct Connect."</p>\n\n<p>Our August event is sponsored by: <a datafld="0:0" href="http://actioncoach.com/treyfinley">ActionCOACH</a></p>\n\n<p>Breakfast and registration begin at 7:30 a.m.\, the program begins at 8.</p>\n
LOCATION:Holiday Inn - Garland North
UID:e.2096.1020
SEQUENCE:3
DTSTAMP:20260421T204241Z
URL:https://network.garlandchamber.com/events/details/direct-connect-august-2012-08-16-2012-1020
END:VEVENT

END:VCALENDAR
