BEGIN:VCALENDAR
VERSION:2.0
PRODID:-//ChamberMaster//Event Calendar 2.0//EN
METHOD:PUBLISH
X-PUBLISHED-TTL:P3D
REFRESH-INTERVAL:P3D
CALSCALE:GREGORIAN
BEGIN:VEVENT
DTSTART:20140821T130000Z
DTEND:20140821T140000Z
X-MICROSOFT-CDO-ALLDAYEVENT:FALSE
SUMMARY:Direct Connect August 2014
DESCRIPTION:
X-ALT-DESC;FMTTYPE=text/html:
LOCATION:Garland Chamber of Commerce
UID:e.2096.1236
SEQUENCE:3
DTSTAMP:20260420T085833Z
URL:https://network.garlandchamber.com/events/details/direct-connect-august-2014-08-21-2014-1236
END:VEVENT

END:VCALENDAR
