BEGIN:VCALENDAR
VERSION:2.0
PRODID:-//ChamberMaster//Event Calendar 2.0//EN
METHOD:PUBLISH
X-PUBLISHED-TTL:P3D
REFRESH-INTERVAL:P3D
CALSCALE:GREGORIAN
BEGIN:VEVENT
DTSTART:20140220T140000Z
DTEND:20140220T150000Z
X-MICROSOFT-CDO-ALLDAYEVENT:FALSE
SUMMARY:Direct Connect February 2014
DESCRIPTION:Join us for the exciting\, fast-paced morning networking event\, Direct Connect! Our speed networking format is designed to help you initiate meaningful\, strategic conversations within moments of meeting a new connection. We want to help you expand your network through Direct Connect.\n\nHow it works:\n\nAttendees will be seated around the room directly across from a partner. When our emcee rings the bell\, conversation will begin. A quick two minutes later\, the bell will ring again and the outer row of participants will move one seat to the left. Get your elevator speech ready\, prepare your questions in advance\, and know what you want to accomplish -- once we begin\, there's no time to waste!\n\nBreakfast and registration begin at 7:30 a.m.\, the program begins at 8.\n\nSponsorship Available: Contact Jami Manners at jami.manners@garlandchamber.com for more information.
X-ALT-DESC;FMTTYPE=text/html:<p>Join us for&nbsp\;the exciting\, fast-paced morning networking event\, Direct Connect! Our&nbsp\;speed networking format is&nbsp\;designed to help you&nbsp\;initiate meaningful\, strategic&nbsp\;conversations&nbsp\;within moments of meeting a new connection. We want to help you expand your network through Direct Connect.</p>\n\n<p><strong>How it works:</strong><br />\nAttendees will be seated around the room directly across from a partner. When our emcee rings the bell\, conversation will begin. A quick two minutes later\, the bell will ring again and the outer row of participants will move one seat to the left. Get your elevator speech ready\, prepare your questions in advance\, and know what you want to accomplish -- once we begin\, there&#39\;s no time to waste!</p>\n\n<p>Breakfast and registration begin at 7:30 a.m.\, the program begins at 8.</p>\n\n<p>Sponsorship Available: Contact Jami Manners at <a href="mailto:jami.manners@garlandchamber.com">jami.manners@garlandchamber.com</a> for more information.</p>\n
LOCATION:Garland Chamber of Commerce
UID:e.2096.1230
SEQUENCE:3
DTSTAMP:20260420T182201Z
URL:https://network.garlandchamber.com/events/details/direct-connect-february-2014-02-20-2014-1230
END:VEVENT

END:VCALENDAR
