BEGIN:VCALENDAR
VERSION:2.0
PRODID:-//ChamberMaster//Event Calendar 2.0//EN
METHOD:PUBLISH
X-PUBLISHED-TTL:P3D
REFRESH-INTERVAL:P3D
CALSCALE:GREGORIAN
BEGIN:VEVENT
DTSTART:20120119T140000Z
DTEND:20120119T150000Z
X-MICROSOFT-CDO-ALLDAYEVENT:FALSE
SUMMARY:Direct Connect January 2012
DESCRIPTION:Join us for a free\, morning networking event designed to help you form strategic\, valuable connections. Each member in attendance will get an opportunity to introduce him or herself to the group as well as one-on-one time with another attendee and time to mingle.\n\nPaul Mayer\, CEO\, and Kisha Allen\, Director of Member Services\, will be in attendance to help make introductions and connections.\n\nAttendees will each leave with a "Networking 101" informational brochure to help ensure maximum results from each networking attempt. We want to help you expand your network through "Direct Connect."
X-ALT-DESC;FMTTYPE=text/html:<p>Join us for a free\, morning networking event designed to help you form strategic\, valuable connections. Each member in attendance will get an opportunity to introduce him or herself to the group as well as one-on-one time with another attendee and time to mingle.</p>\n\n<p>Paul Mayer\, CEO\, and Kisha Allen\, Director of Member Services\, will be in attendance to help make introductions and connections.</p>\n\n<p>Attendees will each leave with a &quot\;Networking 101&quot\; informational brochure to help ensure maximum results from each networking attempt. We want to help you expand your network through &quot\;Direct Connect.&quot\;</p>\n
LOCATION:Holiday Inn - Garland North
UID:e.2096.987
SEQUENCE:3
DTSTAMP:20260422T065009Z
URL:https://network.garlandchamber.com/events/details/direct-connect-january-2012-01-19-2012-987
END:VEVENT

END:VCALENDAR
