BEGIN:VCALENDAR
VERSION:2.0
PRODID:-//ChamberMaster//Event Calendar 2.0//EN
METHOD:PUBLISH
X-PUBLISHED-TTL:P3D
REFRESH-INTERVAL:P3D
CALSCALE:GREGORIAN
BEGIN:VEVENT
DTSTART:20130718T130000Z
DTEND:20130718T140000Z
X-MICROSOFT-CDO-ALLDAYEVENT:FALSE
SUMMARY:Direct Connect July 2013
DESCRIPTION:Join us for a free\, morning networking event designed to help you form strategic\, valuable connections. Each member in attendance will get an opportunity to introduce him or herself to the group as well as one-on-one time with another attendee and time to mingle.\n\nPaul Mayer\, CEO\, and Kisha Allen\, Director of Member Services\, will be in attendance to help make introductions and connections.\n\nAttendees will each leave with a "Tips to Take with You" informational brochure to help ensure maximum results from each networking attempt. We want to help you expand your network through Direct Connect.\n\nBreakfast and registration begin at 7:30 a.m.\, the program begins at 8.\n\nSponsorship Available: Contact Jami Manners at jami.manners@garlandchamber.com for more information
X-ALT-DESC;FMTTYPE=text/html:<p>Join us for a free\, morning networking event designed to help you form strategic\, valuable connections. Each member in attendance will get an opportunity to introduce him or herself to the group as well as one-on-one time with another attendee and time to mingle.</p>\n\n<p>Paul Mayer\, CEO\, and Kisha Allen\, Director of Member Services\, will be in attendance to help make introductions and connections.</p>\n\n<p>Attendees will each leave with a &quot\;Tips to Take with You&quot\; informational brochure to help ensure maximum results from each networking attempt. We want to help you expand your network through Direct Connect.</p>\n\n<p>Breakfast and registration begin at 7:30 a.m.\, the program begins at 8.</p>\n\n<p>Sponsorship Available: Contact Jami Manners at <a href="mailto:jami.manners@garlandchamber.com">jami.manners@garlandchamber.com</a> for more information</p>\n
LOCATION:Hyatt Place Dallas/ Garland
UID:e.2096.1126
SEQUENCE:3
DTSTAMP:20260421T044520Z
URL:https://network.garlandchamber.com/events/details/direct-connect-july-2013-07-18-2013-1126
END:VEVENT

END:VCALENDAR
