BEGIN:VCALENDAR
VERSION:2.0
PRODID:-//ChamberMaster//Event Calendar 2.0//EN
METHOD:PUBLISH
X-PUBLISHED-TTL:P3D
REFRESH-INTERVAL:P3D
CALSCALE:GREGORIAN
BEGIN:VEVENT
DTSTART:20130620T130000Z
DTEND:20130620T140000Z
X-MICROSOFT-CDO-ALLDAYEVENT:FALSE
SUMMARY:Direct Connect June 2013
DESCRIPTION:Join us for a free\, morning networking event designed to help you form strategic\, valuable connections. Each member in attendance will get an opportunity to introduce him or herself to the group as well as one-on-one time with another attendee and time to mingle.\n\nPaul Mayer\, CEO\, and Kisha Allen\, Director of Member Services\, will be in attendance to help make introductions and connections.\n\nAttendees will each leave with a "Tips to Take with You" informational brochure to help ensure maximum results from each networking attempt. We want to help you expand your network through Direct Connect.\n\nBreakfast and registration begin at 7:30 a.m.\, the program begins at 8.\n\nSponsored by: Bo Saavedra\, Northwestern Mutual
X-ALT-DESC;FMTTYPE=text/html:<p>Join us for a free\, morning networking event designed to help you form strategic\, valuable connections. Each member in attendance will get an opportunity to introduce him or herself to the group as well as one-on-one time with another attendee and time to mingle.</p>\n\n<p>Paul Mayer\, CEO\, and Kisha Allen\, Director of Member Services\, will be in attendance to help make introductions and connections.</p>\n\n<p>Attendees will each leave with a &quot\;Tips to Take with You&quot\; informational brochure to help ensure maximum results from each networking attempt. We want to help you expand your network through Direct Connect.</p>\n\n<p>Breakfast and registration begin at 7:30 a.m.\, the program begins at 8.</p>\n\n<p>Sponsored by: <a datafld="0:0" href="http://bosaavedra.nmfn.com/">Bo Saavedra\, Northwestern Mutual</a></p>\n
LOCATION:Hyatt Place Dallas/ Garland
UID:e.2096.1125
SEQUENCE:3
DTSTAMP:20260421T073542Z
URL:https://network.garlandchamber.com/events/details/direct-connect-june-2013-06-20-2013-1125
END:VEVENT

END:VCALENDAR
