BEGIN:VCALENDAR
VERSION:2.0
PRODID:-//ChamberMaster//Event Calendar 2.0//EN
METHOD:PUBLISH
X-PUBLISHED-TTL:P3D
REFRESH-INTERVAL:P3D
CALSCALE:GREGORIAN
BEGIN:VEVENT
DTSTART:20130321T130000Z
DTEND:20130321T140000Z
X-MICROSOFT-CDO-ALLDAYEVENT:FALSE
SUMMARY:Direct Connect March 2013
DESCRIPTION:"Network in a Flash"\n\nJoin us for the exciting\, fast-paced new format at our most strategic morning networking event! The Garland Chamber of Commerce has transformed its vastly successful "Direct Connect" program into a SPEED NETWORKING event.\n\nAttendees will be seated around the room directly across from a partner. When our emcee rings the bell\, conversation will begin. A quick two minutes later\, the bell will ring again and the outer row of participants will move one seat to the left. Get your elevator speech ready\, prepare your questions in advance\, and know what you want to accomplish -- once we begin\, there's no time to waste!\n\nAs a special\, added strategic element\, each month will feature a specific theme and our staff will invite local industry professionals for you to meet with one-on-one. These professionals will be pre-placed at tables in the room and spots at their tables will be first come\, first serve.\n\nIn preparation for our 4th Annual Business Expo\, the March Direct Connect event will feature professionals in the field of MARKETING. Whether you need tips on how to promote your business on Twitter\, help ordering promotional products\, or someone to coach you on selling tactics\, you won't want to miss our March event.\n\nSee a List of Our First Group of Professionals\n\nWe want to help you expand your network through Direct Connect. Questions? Give us a call!\n\nJami Manners: (469) 326-7477\n\nKisha Allen: (469) 326-7454\n\nJenna Dickson: (469) 326-7412\n\nBreakfast and registration begin at 7:30 a.m.\, the program begins at 8.\n\nSponsorship Available: Contact Jami Manners at jami.manners@garlandchamber.com for more information.
X-ALT-DESC;FMTTYPE=text/html:<p><em>&quot\;Network in a Flash&quot\;</em></p>\n\n<p>Join us for the exciting\, fast-paced new format at our most strategic morning networking event! The Garland Chamber of Commerce has transformed its vastly successful &quot\;Direct Connect&quot\; program into a SPEED NETWORKING event.</p>\n\n<p>Attendees will be seated around the room directly across from a partner. When our emcee rings the bell\, conversation will begin. A quick two minutes later\, the bell will ring again and the outer row of participants will move one seat to the left. Get your elevator speech ready\, prepare your questions in advance\, and know what you want to accomplish -- once we begin\, there&#39\;s no time to waste!</p>\n\n<p>As a special\, added strategic element\, each month will feature a specific theme and our staff will invite local industry professionals for you to meet with one-on-one. These professionals will be pre-placed at tables in the room and spots at their tables will be first come\, first serve.</p>\n\n<p>In preparation for our 4th Annual Business Expo\, the March Direct Connect event will feature professionals in the field of <strong>MARKETING</strong>. Whether you need tips on how to promote your business on Twitter\, help ordering promotional products\, or someone to coach you on selling tactics\, you won&#39\;t want to miss our March event.</p>\n\n<p><a datafld="0:0" href="http://www.garlandchamber.com/events/direct-connect">See a List of Our First Group of Professionals</a></p>\n\n<p>We want to help you expand your network through Direct Connect. Questions? Give us a call!<br />\nJami Manners: (469) 326-7477<br />\nKisha Allen: (469) 326-7454<br />\nJenna Dickson: (469) 326-7412</p>\n\n<p>Breakfast and registration begin at 7:30 a.m.\, the program begins at 8.</p>\n\n<p>Sponsorship Available: Contact Jami Manners at <a href="mailto:jami.manners@garlandchamber.com">jami.manners@garlandchamber.com</a> for more information.</p>\n
LOCATION:Hyatt Place Dallas/ Garland
UID:e.2096.1122
SEQUENCE:3
DTSTAMP:20260421T102300Z
URL:https://network.garlandchamber.com/events/details/direct-connect-march-2013-03-21-2013-1122
END:VEVENT

END:VCALENDAR
