BEGIN:VCALENDAR
VERSION:2.0
PRODID:-//ChamberMaster//Event Calendar 2.0//EN
METHOD:PUBLISH
X-PUBLISHED-TTL:P3D
REFRESH-INTERVAL:P3D
CALSCALE:GREGORIAN
BEGIN:VEVENT
DTSTART:20120517T130000Z
DTEND:20120517T140000Z
X-MICROSOFT-CDO-ALLDAYEVENT:FALSE
SUMMARY:Direct Connect May 2012
DESCRIPTION:Join us for a free\, morning networking event designed to help you form strategic\, valuable connections. Each member in attendance will get an opportunity to introduce him or herself to the group as well as one-on-one time with another attendee and time to mingle.\n\nPaul Mayer\, CEO\, and Kisha Allen\, Director of Member Services\, will be in attendance to help make introductions and connections.\n\nAttendees will each leave with a "Tips to Take with You" informational brochure to help ensure maximum results from each networking attempt. We want to help you expand your network through "Direct Connect."\n\nOur May event is sponsored by: Autumn Leaves\n\nBreakfast and registration begin at 7:30 a.m.\, the program begins at 8.\n\nPlease note: In order to ensure we have an adequate amount of time to make strategic connections for our attendees\, we have implemented a registration policy effective April 24\, 2012. The May Direct Connect event is free of charge to those who register prior to Friday\, May 11\, 2012 at noon. After this date\, registrants will be charged a late fee of $10 for attendance. We will also charge $10 for registrations not cancelled by Friday\, May 11\, 2012. Walk-ins will be seated based on space availability and may pay a fee of $10 at the door on the day of the event. If you have any questions regarding the registration policy\, please contact Jenna Dickson at (469) 326-7412.
X-ALT-DESC;FMTTYPE=text/html:<p>Join us for a free\, morning networking event designed to help you form strategic\, valuable connections. Each member in attendance will get an opportunity to introduce him or herself to the group as well as one-on-one time with another attendee and time to mingle.</p>\n\n<p>Paul Mayer\, CEO\, and Kisha Allen\, Director of Member Services\, will be in attendance to help make introductions and connections.</p>\n\n<p>Attendees will each leave with a &quot\;Tips to Take with You&quot\; informational brochure to help ensure maximum results from each networking attempt. We want to help you expand your network through &quot\;Direct Connect.&quot\;</p>\n\n<p>Our May event is sponsored by: <a datafld="0:0" href="http://www.autumnleavesliving.com/">Autumn Leaves</a></p>\n\n<p>Breakfast and registration begin at 7:30 a.m.\, the program begins at 8.</p>\n\n<p><em>Please note: In order to ensure we have an adequate amount of time to make strategic connections for our attendees\, we have implemented a registration policy effective April 24\, 2012. The May Direct Connect event&nbsp\;is free of charge to those who register prior to Friday\, May 11\, 2012&nbsp\;at noon. After this date\, registrants will be charged a late fee of $10 for attendance. We&nbsp\;will also&nbsp\;charge $10 for registrations not cancelled by Friday\, May 11\, 2012. Walk-ins will be seated based on space availability and may pay a fee of $10 at the door on the day of the event. If you have any questions regarding the registration policy\, please contact Jenna Dickson at (469) 326-7412.</em></p>\n
LOCATION:Holiday Inn - Garland North
UID:e.2096.1015
SEQUENCE:3
DTSTAMP:20260422T022754Z
URL:https://network.garlandchamber.com/events/details/direct-connect-may-2012-05-17-2012-1015
END:VEVENT

END:VCALENDAR
