BEGIN:VCALENDAR
VERSION:2.0
PRODID:-//ChamberMaster//Event Calendar 2.0//EN
METHOD:PUBLISH
X-PUBLISHED-TTL:P3D
REFRESH-INTERVAL:P3D
CALSCALE:GREGORIAN
BEGIN:VEVENT
DTSTART:20140514T130000Z
DTEND:20140514T140000Z
X-MICROSOFT-CDO-ALLDAYEVENT:FALSE
SUMMARY:Direct Connect May 2014
DESCRIPTION:Join us for the exciting\, fast-paced morning networking event\, Direct Connect! Our networking format is designed to help you initiate meaningful\, strategic conversations within moments of meeting a new connection. We want to help you expand your network through Direct Connect.\n\nHow it works: Upon arrival\, attendees are given a rotation schedule for four rounds. Participants will take a seat at the assigned table for round one and have 90 seconds to tell the rest of their table about their business. Once each person at the table has had a chance to speak\, the table will be open for conversation until the round is complete. The emcee will announce the completion of each round and participants will move to a new table to begin again with a new set of connections. This format allows participants to engage in conversation with more than 20 other attendees and allows for maximum exposure of each business during the event.\n\nBreakfast and registration begin at 7:30 a.m.\, the program begins at 8.\n\n\n\nBecause of facility requirements\, we must charge the full registration amount for reservations not canceled two business days prior to the event. See our fee policy for additional details. \n\n\n\nWant to attend Direct Connect for free all year long? Free attendance is a Chamber member benefit! Join Now
X-ALT-DESC;FMTTYPE=text/html:<p style="box-sizing: border-box\; margin: 1.0666666666666667em 0px 0px\; font-size: 15px\; color: rgb(67\, 65\, 66)\; font-family: 'Nexa Book'\, Helvetica\, Arial\, Verdana\, serif\; line-height: 24px\;">Join us for the exciting\, fast-paced morning networking event\, Direct Connect! Our networking format is designed to help you initiate meaningful\, strategic conversations within moments of meeting a new connection. We want to help you expand your network through Direct Connect.</p>\n\n<p style="box-sizing: border-box\; margin: 1.0666666666666667em 0px 0px\; font-size: 15px\; color: rgb(67\, 65\, 66)\; font-family: 'Nexa Book'\, Helvetica\, Arial\, Verdana\, serif\; line-height: 24px\;"><span style="box-sizing: border-box\; font-family: 'Nexa Bold'\, Helvetica\, Arial\, Verdana\, serif\;">How it works:&nbsp\;</span>Upon arrival\, attendees are given a rotation schedule for four rounds. Participants will take a seat at the assigned table for round one and have 90 seconds to tell the rest of their table about their business. Once each person at the table has had a chance to speak\, the table will be open for conversation until the round is complete. The emcee will announce the completion of each round and participants will move to a new table to begin again with a new set of connections. This format allows participants to engage in conversation with more than 20 other attendees and allows for maximum exposure of each business during the event.</p>\n\n<p style="box-sizing: border-box\; margin: 1.0666666666666667em 0px 0px\; font-size: 15px\; color: rgb(67\, 65\, 66)\; font-family: 'Nexa Book'\, Helvetica\, Arial\, Verdana\, serif\; line-height: 24px\;">Breakfast and registration begin at 7:30 a.m.\, the program begins at 8.<br style="box-sizing: border-box\;" />\n<br style="box-sizing: border-box\;" />\n<span style="box-sizing: border-box\;">Because of facility requirements\, we must charge the full registration amount for reservations not canceled two business days prior to the event. See our&nbsp\;</span><a href="http://www.garlandchamber.com/policies/fee-policy.html" style="box-sizing: border-box\; color: rgb(14\, 133\, 158)\; font-family: 'Nexa Bold'\, Helvetica\, Arial\, Verdana\, serif\;">fee policy</a><span style="box-sizing: border-box\;">&nbsp\;for additional details.&nbsp\;</span><br style="box-sizing: border-box\;" />\n<br style="box-sizing: border-box\;" />\nWant to attend Direct Connect for free all year long? Free attendance is a Chamber member benefit!&nbsp\;<a href="http://www.garlandchamber.com/join/index.html" style="box-sizing: border-box\; color: rgb(14\, 133\, 158)\; font-family: 'Nexa Bold'\, Helvetica\, Arial\, Verdana\, serif\;" title="Join the Chamber">Join Now</a></p>\n
LOCATION:Garland Chamber of Commerce
UID:e.2096.1232
SEQUENCE:3
DTSTAMP:20260420T133449Z
URL:https://network.garlandchamber.com/events/details/direct-connect-may-2014-05-14-2014-1232
END:VEVENT

END:VCALENDAR
