BEGIN:VCALENDAR
VERSION:2.0
PRODID:-//ChamberMaster//Event Calendar 2.0//EN
METHOD:PUBLISH
X-PUBLISHED-TTL:P3D
REFRESH-INTERVAL:P3D
CALSCALE:GREGORIAN
BEGIN:VEVENT
DTSTART:20121115T140000Z
DTEND:20121115T150000Z
X-MICROSOFT-CDO-ALLDAYEVENT:FALSE
SUMMARY:Direct Connect November 2012
DESCRIPTION:Join us for a free\, morning networking event designed to help you form strategic\, valuable connections. Each member in attendance will get an opportunity to introduce him or herself to the group as well as one-on-one time with another attendee and time to mingle.\n\nPaul Mayer\, CEO\, and Kisha Allen\, Director of Member Services\, will be in attendance to help make introductions and connections.\n\nAttendees will each leave with a "Tips to Take with You" informational brochure to help ensure maximum results from each networking attempt. We want to help you expand your network through "Direct Connect."\n\nOur November event is sponsored by: Sam's Club 8242\n\nBreakfast and registration begin at 7:30 a.m.\, the program begins at 8.\n\nThe Garland Chamber will charge $10 for registrations not cancelled by Friday\, Nov. 9\, 2012. Walk-ins will be seated based on space availability and may pay a fee of $10 at the door on the day of the event. Individuals who are not members of the Chamber may attend as our guest at no charge up to two times\; the third time a non-member attends\, he or she may incur a $10 fee. For Chamber membership information\, please contact Kisha Allen at (469) 326-7454.
X-ALT-DESC;FMTTYPE=text/html:<p>Join us for a free\, morning networking event designed to help you form strategic\, valuable connections. Each member in attendance will get an opportunity to introduce him or herself to the group as well as one-on-one time with another attendee and time to mingle.</p>\n\n<p>Paul Mayer\, CEO\, and Kisha Allen\, Director of Member Services\, will be in attendance to help make introductions and connections.</p>\n\n<p>Attendees will each leave with a &quot\;Tips to Take with You&quot\; informational brochure to help ensure maximum results from each networking attempt. We want to help you expand your network through &quot\;Direct Connect.&quot\;</p>\n\n<p>Our November event is sponsored by: <a datafld="0:0" href="http://www3.samsclub.com/clublocator/club_detail.aspx?myClub=8242&amp\;mySearch=club">Sam&#39\;s Club 8242</a></p>\n\n<p>Breakfast and registration begin at 7:30 a.m.\, the program begins at 8.</p>\n\n<p><em>The Garland Chamber will charge $10 for registrations not cancelled by Friday\, Nov. 9\, 2012. Walk-ins will be seated based on space availability and may pay a fee of $10 at the door on the day of the event. Individuals who are not members of the Chamber may attend as our guest at no charge up to two times\; the third time a non-member attends\, he or she may incur a $10 fee. For Chamber membership information\, please contact Kisha Allen at (469) 326-7454.</em></p>\n
LOCATION:Hyatt Place Dallas/ Garland
UID:e.2096.1023
SEQUENCE:3
DTSTAMP:20260421T162013Z
URL:https://network.garlandchamber.com/events/details/direct-connect-november-2012-11-15-2012-1023
END:VEVENT

END:VCALENDAR
