BEGIN:VCALENDAR
VERSION:2.0
PRODID:-//ChamberMaster//Event Calendar 2.0//EN
METHOD:PUBLISH
X-PUBLISHED-TTL:P3D
REFRESH-INTERVAL:P3D
CALSCALE:GREGORIAN
BEGIN:VEVENT
DTSTART:20120920T130000Z
DTEND:20120920T140000Z
X-MICROSOFT-CDO-ALLDAYEVENT:FALSE
SUMMARY:Direct Connect September 2012
DESCRIPTION:Join us for a free\, morning networking event designed to help you form strategic\, valuable connections. Each member in attendance will get an opportunity to introduce him or herself to the group as well as one-on-one time with another attendee and time to mingle.\n\nPaul Mayer\, CEO\, and Kisha Allen\, Director of Member Services\, will be in attendance to help make introductions and connections.\n\nAttendees will each leave with a "Tips to Take with You" informational brochure to help ensure maximum results from each networking attempt. We want to help you expand your network through "Direct Connect."\n\nOur September event is sponsored by: Shea & McMurdie Retirement\n\nBreakfast and registration begin at 7:30 a.m.\, the program begins at 8.\n\nThe Garland Chamber will charge $10 for registrations not cancelled by Friday\, Sept.14\, 2012. Walk-ins will be seated based on space availability and may pay a fee of $10 at the door on the day of the event.
X-ALT-DESC;FMTTYPE=text/html:<p>Join us for a free\, morning networking event designed to help you form strategic\, valuable connections. Each member in attendance will get an opportunity to introduce him or herself to the group as well as one-on-one time with another attendee and time to mingle.</p>\n\n<p>Paul Mayer\, CEO\, and Kisha Allen\, Director of Member Services\, will be in attendance to help make introductions and connections.</p>\n\n<p>Attendees will each leave with a &quot\;Tips to Take with You&quot\; informational brochure to help ensure maximum results from each networking attempt. We want to help you expand your network through &quot\;Direct Connect.&quot\;</p>\n\n<p>Our September event is sponsored by: <a datafld="0:0" href="http://myretirementgroup.com/">Shea &amp\; McMurdie Retirement</a></p>\n\n<p>Breakfast and registration begin at 7:30 a.m.\, the program begins at 8.</p>\n\n<p><em>The Garland Chamber will charge $10 for registrations not cancelled by Friday\, Sept.14\, 2012. Walk-ins will be seated based on space availability and may pay a fee of $10 at the door on the day of the event.</em></p>\n
LOCATION:Holiday Inn - Garland North
UID:e.2096.1021
SEQUENCE:3
DTSTAMP:20260421T204353Z
URL:https://network.garlandchamber.com/events/details/direct-connect-september-2012-09-20-2012-1021
END:VEVENT

END:VCALENDAR
