BEGIN:VCALENDAR
VERSION:2.0
PRODID:-//ChamberMaster//Event Calendar 2.0//EN
METHOD:PUBLISH
X-PUBLISHED-TTL:P3D
REFRESH-INTERVAL:P3D
CALSCALE:GREGORIAN
BEGIN:VEVENT
DTSTART:20101208T143000Z
DTEND:20101208T180000Z
X-MICROSOFT-CDO-ALLDAYEVENT:FALSE
SUMMARY:DiSC Sales Training
DESCRIPTION:
X-ALT-DESC;FMTTYPE=text/html:
LOCATION:Garland Chamber of Commerce
UID:e.2096.565
SEQUENCE:3
DTSTAMP:20260423T011839Z
URL:https://network.garlandchamber.com/events/details/disc-sales-training-12-08-2010-565
END:VEVENT

END:VCALENDAR
