BEGIN:VCALENDAR
VERSION:2.0
PRODID:-//ChamberMaster//Event Calendar 2.0//EN
METHOD:PUBLISH
X-PUBLISHED-TTL:P3D
REFRESH-INTERVAL:P3D
CALSCALE:GREGORIAN
BEGIN:VEVENT
DTSTART:20120507T130000Z
DTEND:20120511T220000Z
X-MICROSOFT-CDO-ALLDAYEVENT:FALSE
SUMMARY:DMN Media Works Expo
DESCRIPTION:You're invited to attend the DMN Media Works Expo May 7-11 at the Dallas Convention Center.  This free event is designed exclusively for small businesses looking to reach consumers in the Dallas market. The Expo will showcase digital and traditional marketing solutions that have a tremendous value to small businesses. There are 35 seminar sessions to choose from and it takes less than one hour to attend. Parking is free and food and drinks will be served. See the event flyer and click the "Register Here" button to learn more about the Expo and reserve your spot. During registration\, type neighborsgo in the "For Office Use" field.
X-ALT-DESC;FMTTYPE=text/html:<DIV style="FONT-FAMILY: Arial">You're invited to attend the DMN Media Works Expo May 7-11 at the Dallas Convention Center. </DIV><DIV style="FONT-FAMILY: Arial">&nbsp\;</DIV><DIV style="FONT-FAMILY: Arial">This free event is designed exclusively for small businesses looking to reach consumers in the Dallas market. The Expo will showcase digital and traditional marketing solutions that have a tremendous value to small businesses. There are 35 seminar sessions to choose from and it takes less than one hour to attend. Parking is free and food and drinks will be served.</DIV><DIV style="FONT-FAMILY: Arial">&nbsp\;</DIV><DIV style="FONT-FAMILY: Arial"><A href="http://www.garlandchamber.com/images/stories/chamber/DMNmedia%20Works%20Email%20Invite%202012-SMC.pdf">See the event flyer</A> and click the "Register Here" button to learn more about the Expo and reserve your spot. During registration\, type neighborsgo in the "For Office Use" field.</DIV>
LOCATION:Dallas Convention Center
UID:e.2096.1039
SEQUENCE:3
DTSTAMP:20260422T010327Z
URL:https://network.garlandchamber.com/events/details/dmn-media-works-expo-05-07-2012-1039
END:VEVENT

END:VCALENDAR
