BEGIN:VCALENDAR
VERSION:2.0
PRODID:-//ChamberMaster//Event Calendar 2.0//EN
METHOD:PUBLISH
X-PUBLISHED-TTL:P3D
REFRESH-INTERVAL:P3D
CALSCALE:GREGORIAN
BEGIN:VEVENT
DTSTART:20111028T050000Z
DTEND:20111029T050000Z
X-MICROSOFT-CDO-ALLDAYEVENT:FALSE
SUMMARY:Donnie McClurkin Perfecting Music Conference
DESCRIPTION:Donnie McClurkin Perfecting Music Conference                                                           GOSPEL SINGER DONNIE MCCLURKIN TEAMS UP WITH       THE URBAN LEAGUE OF GREATER DALLAS & NORTH CENTRAL TEXAS AND  MT. HEBRON MISSIONARY BAPTIST CHURCH FOR TWO-DAY COMMUNITY EVENT                                                      Job Fair Vendors: Spherion\, Office Depot\, DeVry University\, Goodwill Industries\,              Federal Reserve Bank of Dallas\, McDonald's\, Werner Enterprise\, Target Corporation\, DFW           Airport\, Tom Thumb\, Texas Highway Patrol\, Center for Career Training\, Edward Jones and more                                                             *********************                  Close The Gap/Boston Scientific\, Subway\, Frito Lay- PepsiCo\, Urban Ministries\, Inc\,                  Old School 94.5\, Minnie’s Food Pantry\, The Dallas Weekly\, The Word Network                      Nationwide Insurance and Dallas Mavericks on Board as Key Supporters                ___________________________________________________________________________WHO:      Three time Grammy-winning singer\, song-writer\, producer and pastor\, Donnie McClurkin                 will host Dallas Perfecting Music Conference.  Guests: Richard Smallwood\, Myron Butler\,                  Kerry Douglas\, Carla Williams\, Beverly Robinson\, Myron Williams\, Willie Mae McIver\,                  Veta Holt Toska  Medlock Lee\, Pastor Leonard Leach\, Rev. Aaron Gaddis\, Rev. Cedric                  Wheaton\, David Frazier and others.  WHAT:    Perfecting Music Conference two day community empowerment affair includes one day                     music administration workshops (Recording 101\, Radio Seminar\, Marketing/Branding\,                  Church Administration  etc.)   Free job/career fair covers counseling\, resume building\,                  tips on successful interviewing\, free-training classes\, with hiring opportunities for permanent                  and temporary jobs and on day two free multi-cultural Health & Wellness Fair featuring                  awareness booths and health screenings\, along with main stage activities such as speakers                  and special music guests.  A $40 fee for single registration $25 (each) for families of three or                  more and $25 (each) for church groups of 10 or more./ Free nightly services at 7:30pm! WHEN:    Friday\, October 28\, Job and Career Fair 9am until 3pm                (with resume building and career counseling services).                 Saturday\, October 29 (Workshops) 9am-5pm/ FREE Health Fair                  9am-3pm      WHERE:  Job Fair located at The Sheraton Hotel\, 400 N. Olive\, Dallas\, TX                 PMC & Health Fair located at Mt. Hebron Church\,1233 State Hwy 66\, Garland\,TX
X-ALT-DESC;FMTTYPE=text/html:<P style="MARGIN: 0in -1.25in 0pt 0in" class=MsoNormal align=center><FONT size=4><B style="mso-bidi-font-weight: normal"><SPAN style="mso-tab-count: 1"><FONT color=#000000 size=5>Donnie McClurkin Perfecting Music Conference</FONT>&nbsp\;&nbsp\;&nbsp\;&nbsp\;&nbsp\;</SPAN></B></FONT></P><P style="MARGIN: 0in -1.25in 0pt 0in" class=MsoNormal align=center><FONT size=4><B style="mso-bidi-font-weight: normal"><SPAN style="mso-tab-count: 1">&nbsp\;&nbsp\;&nbsp\;&nbsp\;&nbsp\;&nbsp\;&nbsp\;</SPAN></B><SPAN style="mso-spacerun: yes">&nbsp\;</SPAN><SPAN style="mso-spacerun: yes">&nbsp\;&nbsp\;&nbsp\;&nbsp\;&nbsp\;&nbsp\;&nbsp\;&nbsp\;&nbsp\;&nbsp\;&nbsp\;&nbsp\;&nbsp\;&nbsp\;&nbsp\;&nbsp\;&nbsp\;&nbsp\; </SPAN></FONT></P><P style="MARGIN: 0in -1.25in 0pt 0in" class=MsoNormal align=left><SPAN style="mso-spacerun: yes">&nbsp\;&nbsp\;&nbsp\;&nbsp\;&nbsp\;&nbsp\;&nbsp\;&nbsp\;&nbsp\;&nbsp\;&nbsp\;&nbsp\;&nbsp\;&nbsp\;&nbsp\;&nbsp\;&nbsp\; </SPAN><SPAN style="mso-spacerun: yes">&nbsp\;&nbsp\;&nbsp\;&nbsp\;&nbsp\;&nbsp\;&nbsp\;</SPAN><SPAN style="mso-spacerun: yes">&nbsp\;<FONT color=#000000>&nbsp\;</FONT></SPAN><B style="mso-bidi-font-weight: normal"><U><FONT color=#000000>GOSPEL SINGER DONNIE MCCLURKIN TEAMS UP WITH <?xml:namespace prefix = o ns = "urn:schemas-microsoft-com:office:office" /><o:p></o:p></FONT></U></B></P><P style="MARGIN: 0in -1.25in 0pt 0in" class=MsoNormal align=left><B style="mso-bidi-font-weight: normal"><FONT color=#000000><SPAN style="mso-spacerun: yes">&nbsp\;&nbsp\;&nbsp\;&nbsp\;&nbsp\; </SPAN><U>THE URBAN LEAGUE OF GREATER DALLAS &amp\; NORTH <?xml:namespace prefix = st1 ns = "urn:schemas-microsoft-com:office:smarttags" /><st1:place w:st="on">CENTRAL TEXAS</st1:place> AND <o:p></o:p></U></FONT></B></P><P style="MARGIN: 0in -1.25in 0pt 0in" class=MsoNormal align=left><B style="mso-bidi-font-weight: normal"><U><FONT color=#000000><SPAN style="mso-spacerun: yes">&nbsp\;</SPAN><st1:place w:st="on"><st1:PlaceType w:st="on">MT.</st1:PlaceType> <st1:PlaceName w:st="on">HEBRON</st1:PlaceName> <st1:PlaceName w:st="on">MISSIONARY</st1:PlaceName> <st1:PlaceName w:st="on">BAPTIST</st1:PlaceName> <st1:PlaceType w:st="on">CHURCH</st1:PlaceType></st1:place> FOR TWO-DAY COMMUNITY EVENT <o:p></o:p></FONT></U></B></P><P style="MARGIN: 0in -81pt 0pt 0in" class=MsoNormal align=left><SPAN style="mso-spacerun: yes"><FONT color=#000000>&nbsp\;&nbsp\;&nbsp\;&nbsp\;&nbsp\;&nbsp\;&nbsp\;&nbsp\;&nbsp\;&nbsp\;&nbsp\;&nbsp\;&nbsp\;&nbsp\;&nbsp\;&nbsp\;&nbsp\;&nbsp\;&nbsp\;&nbsp\;&nbsp\;&nbsp\;&nbsp\;&nbsp\;&nbsp\;&nbsp\;&nbsp\;&nbsp\; </FONT></SPAN></P><P style="MARGIN: 0in 0in 0pt" class=MsoNormal align=left><STRONG><I style="mso-bidi-font-style: normal"><SPAN style="FONT-FAMILY: 'Arial Narrow'\,'sans-serif'\; FONT-WEIGHT: normal\; mso-bidi-font-weight: bold"><FONT color=#000000><SPAN style="mso-spacerun: yes">&nbsp\;&nbsp\;&nbsp\;&nbsp\;&nbsp\;&nbsp\;&nbsp\;&nbsp\;&nbsp\;&nbsp\;&nbsp\;&nbsp\; </SPAN><SPAN style="mso-spacerun: yes">&nbsp\;&nbsp\;&nbsp\;&nbsp\;&nbsp\;&nbsp\;</SPAN><SPAN style="mso-spacerun: yes">&nbsp\;</SPAN><SPAN style="mso-spacerun: yes">&nbsp\;&nbsp\;&nbsp\;&nbsp\;</SPAN>Job Fair Vendors: Spherion\, Office Depot\, <st1:place w:st="on"><st1:PlaceName w:st="on">DeVry</st1:PlaceName> <st1:PlaceType w:st="on">University</st1:PlaceType></st1:place>\, Goodwill Industries\, <SPAN style="mso-spacerun: yes">&nbsp\;</SPAN><o:p></o:p></FONT></SPAN></I></STRONG></P><P style="MARGIN: 0in 0in 0pt" class=MsoNormal align=left><STRONG><I style="mso-bidi-font-style: normal"><SPAN style="FONT-FAMILY: 'Arial Narrow'\,'sans-serif'\; FONT-WEIGHT: normal\; mso-bidi-font-weight: bold"><FONT color=#000000><SPAN style="mso-spacerun: yes">&nbsp\;&nbsp\;&nbsp\;&nbsp\;&nbsp\;&nbsp\;&nbsp\; </SPAN><SPAN style="mso-spacerun: yes">&nbsp\;&nbsp\;&nbsp\;</SPAN><SPAN style="mso-spacerun: yes">&nbsp\;</SPAN>Federal Reserve Bank of Dallas\, McDonald's\, Werner Enterprise\, Target Corporation\, DFW <o:p></o:p></FONT></SPAN></I></STRONG></P><P style="MARGIN: 0in -63pt 0pt 0in" class=MsoNormal align=left><STRONG><I style="mso-bidi-font-style: normal"><SPAN style="FONT-FAMILY: 'Arial Narrow'\,'sans-serif'\; FONT-WEIGHT: normal\; mso-bidi-font-weight: bold"><FONT color=#000000><SPAN style="mso-spacerun: yes">&nbsp\;</SPAN><SPAN style="mso-spacerun: yes">&nbsp\;&nbsp\;&nbsp\;&nbsp\;&nbsp\;&nbsp\; </SPAN><SPAN style="mso-spacerun: yes">&nbsp\;&nbsp\;</SPAN>Airport\, Tom Thumb\, <st1:State w:st="on"><st1:place w:st="on">Texas</st1:place></st1:State> Highway Patrol\, Center for Career Training\, Edward Jones and more<o:p></o:p></FONT></SPAN></I></STRONG></P><P style="MARGIN: 0in -81pt 0pt 0in" class=MsoNormal align=left><FONT color=#000000><SPAN style="mso-spacerun: yes">&nbsp\;&nbsp\;&nbsp\;&nbsp\;&nbsp\;&nbsp\;&nbsp\;&nbsp\;&nbsp\;&nbsp\;&nbsp\;&nbsp\;&nbsp\;&nbsp\;&nbsp\;&nbsp\;&nbsp\;&nbsp\;&nbsp\;&nbsp\;&nbsp\;&nbsp\;&nbsp\;&nbsp\;&nbsp\;&nbsp\;&nbsp\;&nbsp\;&nbsp\;&nbsp\;&nbsp\;&nbsp\;&nbsp\;&nbsp\;&nbsp\;&nbsp\;&nbsp\;&nbsp\;&nbsp\;&nbsp\;&nbsp\;&nbsp\;&nbsp\;&nbsp\;&nbsp\;&nbsp\;&nbsp\;&nbsp\;&nbsp\;&nbsp\;&nbsp\;&nbsp\;&nbsp\;&nbsp\;&nbsp\;&nbsp\;&nbsp\;&nbsp\;&nbsp\;&nbsp\; </SPAN><SPAN style="FONT-FAMILY: 'Arial Narrow'\,'sans-serif'\; FONT-SIZE: 11pt">*********************<o:p></o:p></SPAN></FONT></P><P style="MARGIN: 0in -81pt 0pt 0in" class=MsoNormal align=left><FONT color=#000000><SPAN style="mso-spacerun: yes">&nbsp\;&nbsp\;&nbsp\;&nbsp\;&nbsp\;&nbsp\;&nbsp\;&nbsp\;&nbsp\;&nbsp\;&nbsp\;&nbsp\;&nbsp\;&nbsp\;&nbsp\;&nbsp\;&nbsp\; </SPAN><I style="mso-bidi-font-style: normal">Close The Gap/Boston Scientific\, Subway\, Frito Lay- PepsiCo\, Urban Ministries\, Inc\, <o:p></o:p></I></FONT></P><P style="MARGIN: 0in -81pt 0pt 0in" class=MsoNormal align=left><I style="mso-bidi-font-style: normal"><FONT color=#000000><SPAN style="mso-spacerun: yes">&nbsp\;&nbsp\;&nbsp\;&nbsp\;&nbsp\;&nbsp\; </SPAN><SPAN style="mso-spacerun: yes">&nbsp\;&nbsp\;&nbsp\;&nbsp\;&nbsp\;&nbsp\;&nbsp\;&nbsp\;&nbsp\;</SPAN><SPAN style="mso-spacerun: yes">&nbsp\;</SPAN>Old School 94.5\, Minnie’s Food Pantry\, The Dallas Weekly\, The Word Network <o:p></o:p></FONT></I></P><P style="MARGIN: 0in -81pt 0pt 0in" class=MsoNormal align=left><FONT color=#000000><I style="mso-bidi-font-style: normal"><SPAN style="mso-spacerun: yes">&nbsp\;&nbsp\;&nbsp\;&nbsp\;&nbsp\;&nbsp\;&nbsp\;&nbsp\;&nbsp\;&nbsp\;&nbsp\;&nbsp\;&nbsp\;&nbsp\;&nbsp\;&nbsp\;&nbsp\;&nbsp\;&nbsp\;&nbsp\; </SPAN>Nationwide Insurance and Dallas Mavericks on Board as Key Supporters</I> <SPAN style="mso-spacerun: yes">&nbsp\;&nbsp\;&nbsp\;&nbsp\;&nbsp\;&nbsp\;&nbsp\;&nbsp\;&nbsp\;&nbsp\;&nbsp\;</SPAN></FONT></P><P style="MARGIN: 0in -81pt 0pt 0in" class=MsoNormal align=left><FONT color=#000000><SPAN style="mso-spacerun: yes">&nbsp\;&nbsp\;&nbsp\; </SPAN>___________________________________________________________________________</FONT></P><P style="MARGIN: 0in -81pt 0pt 0in" class=MsoNormal align=left><FONT color=#000000><B style="mso-bidi-font-weight: normal">WHO:</B><SPAN style="mso-tab-count: 1"> </SPAN><SPAN style="mso-spacerun: yes">&nbsp\; </SPAN><SPAN style="mso-spacerun: yes">&nbsp\;</SPAN><SPAN style="mso-spacerun: yes">&nbsp\;&nbsp\;</SPAN>Three time Grammy-winning singer\, song-writer\, producer and pastor\, <st1:PersonName w:st="on">Donnie McClurkin</st1:PersonName></FONT></P><P style="MARGIN: 0in -81pt 0pt 0in" class=MsoNormal align=left><FONT color=#000000><SPAN style="mso-tab-count: 1">&nbsp\;&nbsp\;&nbsp\;&nbsp\;&nbsp\;&nbsp\;&nbsp\;&nbsp\;&nbsp\;&nbsp\;&nbsp\; </SPAN><SPAN style="mso-spacerun: yes">&nbsp\;</SPAN><SPAN style="mso-spacerun: yes">&nbsp\;</SPAN><SPAN style="mso-spacerun: yes">&nbsp\;</SPAN><SPAN style="mso-spacerun: yes">&nbsp\; </SPAN>will host Dallas Perfecting Music Conference.<SPAN style="mso-spacerun: yes">&nbsp\; </SPAN>Guests: Richard Smallwood\, Myron Butler\, </FONT></P><P style="MARGIN: 0in -81pt 0pt 0in" class=MsoNormal align=left><FONT color=#000000><SPAN style="mso-spacerun: yes">&nbsp\;&nbsp\;&nbsp\;&nbsp\;&nbsp\;&nbsp\;&nbsp\;&nbsp\;&nbsp\;&nbsp\;&nbsp\;&nbsp\;&nbsp\;&nbsp\;&nbsp\;&nbsp\; </SPAN>Kerry Douglas\, Carla Williams\, Beverly Robinson\, Myron Williams\, <st1:PersonName w:st="on">Willie Mae McIver</st1:PersonName>\, </FONT></P><P style="MARGIN: 0in -81pt 0pt 0in" class=MsoNormal align=left><FONT color=#000000><SPAN style="mso-spacerun: yes">&nbsp\;&nbsp\;&nbsp\;&nbsp\;&nbsp\;&nbsp\;&nbsp\;&nbsp\;&nbsp\; </SPAN><SPAN style="mso-spacerun: yes">&nbsp\;&nbsp\;&nbsp\;&nbsp\;&nbsp\;&nbsp\;&nbsp\;</SPAN>Veta Holt Toska <SPAN style="mso-spacerun: yes">&nbsp\;</SPAN>Medlock Lee\, Pastor Leonard Leach\, Rev. Aaron Gaddis\, Rev. Cedric </FONT></P><P style="MARGIN: 0in -81pt 0pt 0in" class=MsoNormal align=left><FONT color=#000000><SPAN style="mso-spacerun: yes">&nbsp\;&nbsp\;&nbsp\;&nbsp\;&nbsp\;&nbsp\;&nbsp\;&nbsp\;&nbsp\;&nbsp\;&nbsp\;&nbsp\;&nbsp\;&nbsp\;&nbsp\;&nbsp\; </SPAN><st1:place w:st="on"><st1:City w:st="on">Wheaton</st1:City></st1:place>\, David Frazier and others. </FONT></P><P style="MARGIN: 0in -81pt 0pt 0in" class=MsoNormal align=left><o:p><FONT color=#000000>&nbsp\;</FONT></o:p></P><P style="TEXT-INDENT: -0.5in\; MARGIN: 0in -1in 0pt 0.5in" class=MsoNormal align=left><FONT color=#000000><B style="mso-bidi-font-weight: normal">WHAT</B>: <SPAN style="mso-spacerun: yes">&nbsp\;&nbsp\;&nbsp\;</SPAN>Perfecting Music Conference two day community empowerment affair includes one day <SPAN style="mso-spacerun: yes">&nbsp\;&nbsp\;&nbsp\;</SPAN></FONT></P><P style="TEXT-INDENT: -0.5in\; MARGIN: 0in -1in 0pt 0.5in" class=MsoNormal align=left><FONT color=#000000><B style="mso-bidi-font-weight: normal"><SPAN style="mso-spacerun: yes">&nbsp\;&nbsp\;&nbsp\;&nbsp\;&nbsp\;&nbsp\;&nbsp\;&nbsp\;&nbsp\;&nbsp\;&nbsp\;&nbsp\; </SPAN><SPAN style="mso-spacerun: yes">&nbsp\;&nbsp\;&nbsp\;</SPAN><SPAN style="mso-spacerun: yes">&nbsp\;</SPAN></B>music&nbsp\;<SPAN style="COLOR: black">administration&nbsp\;workshops (Recording 101\, Radio Seminar\, Marketing/Branding\, <o:p></o:p></SPAN></FONT></P><P style="TEXT-INDENT: -0.5in\; MARGIN: 0in -1in 0pt 0.5in" class=MsoNormal align=left><SPAN style="COLOR: black"><FONT color=#000000><SPAN style="mso-spacerun: yes">&nbsp\;&nbsp\;&nbsp\;&nbsp\;&nbsp\;&nbsp\;&nbsp\;&nbsp\;&nbsp\;&nbsp\;&nbsp\;&nbsp\; </SPAN><SPAN style="mso-spacerun: yes">&nbsp\;&nbsp\;&nbsp\;</SPAN><SPAN style="mso-spacerun: yes">&nbsp\;</SPAN>Church Administration <SPAN style="mso-spacerun: yes">&nbsp\;</SPAN>etc.)&nbsp\;&nbsp\;&nbsp\;Free job/career fair&nbsp\;covers counseling\, resume building\, <o:p></o:p></FONT></SPAN></P><P style="TEXT-INDENT: -0.5in\; MARGIN: 0in -1in 0pt 0.5in" class=MsoNormal align=left><SPAN style="COLOR: black"><FONT color=#000000><SPAN style="mso-spacerun: yes">&nbsp\;&nbsp\;&nbsp\;&nbsp\;&nbsp\;&nbsp\;&nbsp\;&nbsp\;&nbsp\;&nbsp\;&nbsp\;&nbsp\;&nbsp\;&nbsp\;&nbsp\;&nbsp\; </SPAN>tips on successful interviewing\, free-training classes\,&nbsp\;with hiring opportunities for permanent <o:p></o:p></FONT></SPAN></P><P style="TEXT-INDENT: -0.5in\; MARGIN: 0in -1in 0pt 0.5in" class=MsoNormal align=left><SPAN style="COLOR: black"><FONT color=#000000><SPAN style="mso-spacerun: yes">&nbsp\;&nbsp\;&nbsp\;&nbsp\;&nbsp\;&nbsp\;&nbsp\;&nbsp\;&nbsp\;&nbsp\;&nbsp\;&nbsp\;&nbsp\;&nbsp\;&nbsp\;&nbsp\; </SPAN>and temporary&nbsp\;jobs and on day two free&nbsp\;multi-cultural Health &amp\; Wellness Fair featuring <o:p></o:p></FONT></SPAN></P><P style="TEXT-INDENT: -0.5in\; MARGIN: 0in -1in 0pt 0.5in" class=MsoNormal align=left><SPAN style="COLOR: black"><FONT color=#000000><SPAN style="mso-spacerun: yes">&nbsp\;&nbsp\;&nbsp\;&nbsp\;&nbsp\;&nbsp\;&nbsp\;&nbsp\;&nbsp\;&nbsp\;&nbsp\;&nbsp\;&nbsp\;&nbsp\;&nbsp\;&nbsp\; </SPAN>awareness booths and health&nbsp\;screenings\, along with main stage&nbsp\;activities such as speakers <o:p></o:p></FONT></SPAN></P><P style="TEXT-INDENT: -0.5in\; MARGIN: 0in -1in 0pt 0.5in" class=MsoNormal align=left><FONT color=#000000><SPAN style="COLOR: black"><SPAN style="mso-spacerun: yes">&nbsp\;&nbsp\;&nbsp\;&nbsp\;&nbsp\;&nbsp\;&nbsp\;&nbsp\;&nbsp\;&nbsp\;&nbsp\;&nbsp\;&nbsp\;&nbsp\;&nbsp\;&nbsp\; </SPAN>and special music</SPAN> guests<SPAN style="COLOR: blue">.<SPAN style="mso-spacerun: yes">&nbsp\; </SPAN></SPAN>A $40 fee for single registration $25 (each) for families of three or </FONT></P><P style="TEXT-INDENT: -0.5in\; MARGIN: 0in -1in 0pt 0.5in" class=MsoNormal align=left><FONT color=#000000><SPAN style="mso-spacerun: yes">&nbsp\;&nbsp\;&nbsp\;&nbsp\;&nbsp\;&nbsp\;&nbsp\;&nbsp\;&nbsp\;&nbsp\;&nbsp\;&nbsp\;&nbsp\;&nbsp\;&nbsp\;&nbsp\; </SPAN>more and $25 (each) for church groups of 10 or more./<B style="mso-bidi-font-weight: normal"><SPAN style="COLOR: black"> Free nightly services at 7:30pm!<o:p></o:p></SPAN></B></FONT></P><P style="TEXT-INDENT: -0.5in\; MARGIN: 0in -1in 0pt 0.5in" class=MsoNormal align=left><o:p><FONT color=#000000>&nbsp\;</FONT></o:p></P><P style="MARGIN: 0in 0in 0pt" class=MsoNormal align=left><FONT color=#000000><B style="mso-bidi-font-weight: normal">WHEN:<SPAN style="mso-spacerun: yes">&nbsp\; </SPAN><SPAN style="mso-spacerun: yes">&nbsp\;&nbsp\;</SPAN></B>Friday\, October 28\, Job and Career Fair <SPAN style="COLOR: black">9am until 3pm</SPAN></FONT></P><P style="MARGIN: 0in 0in 0pt" class=MsoNormal align=left><FONT color=#000000><SPAN style="COLOR: black">&nbsp\;&nbsp\;&nbsp\;&nbsp\;&nbsp\;&nbsp\;&nbsp\;&nbsp\;&nbsp\;&nbsp\;&nbsp\;&nbsp\;&nbsp\;&nbsp\; &nbsp\;(with resume building </SPAN></FONT><SPAN style="COLOR: black"><FONT color=#000000>and&nbsp\;</FONT></SPAN><SPAN style="COLOR: black"><FONT color=#000000>career counseling services).<o:p></o:p></FONT></SPAN></P><P style="MARGIN: 0in 0in 0pt" class=MsoNormal align=left><FONT color=#000000><SPAN style="FONT-FAMILY: 'Arial'\,'sans-serif'\; COLOR: black\; FONT-SIZE: 10pt">&nbsp\;</SPAN><SPAN style="mso-spacerun: yes">&nbsp\;&nbsp\;</SPAN><SPAN style="mso-spacerun: yes">&nbsp\;&nbsp\;&nbsp\;&nbsp\;&nbsp\;&nbsp\;&nbsp\;&nbsp\;&nbsp\;&nbsp\;&nbsp\;&nbsp\;&nbsp\;&nbsp\;</SPAN>Saturday\, October 29 (Workshops) 9am-5pm/ FREE Health Fair </FONT></P><P style="MARGIN: 0in 0in 0pt" class=MsoNormal align=left><FONT color=#000000>&nbsp\;&nbsp\;&nbsp\;&nbsp\;&nbsp\;&nbsp\;&nbsp\;&nbsp\;&nbsp\;&nbsp\;&nbsp\;&nbsp\;&nbsp\;&nbsp\;&nbsp\;&nbsp\; 9am-3pm</FONT></P><P style="TEXT-INDENT: -0.5in\; MARGIN: 0in -1in 0pt 0.5in" class=MsoNormal align=left><FONT color=#000000><SPAN style="mso-spacerun: yes">&nbsp\;&nbsp\;&nbsp\; </SPAN><SPAN style="mso-spacerun: yes">&nbsp\;&nbsp\;</SPAN><B style="mso-bidi-font-weight: normal"><o:p></o:p></B></FONT></P><P style="MARGIN: 0in -81pt 0pt 0in" class=MsoNormal align=left><FONT color=#000000><B style="mso-bidi-font-weight: normal">WHERE:<SPAN style="mso-spacerun: yes">&nbsp\; </SPAN></B>Job Fair located at The Sheraton Hotel\, 400 N. Olive\, <st1:place w:st="on"><st1:City w:st="on">Dallas</st1:City>\, <st1:State w:st="on">TX</st1:State></st1:place></FONT></P><P style="MARGIN: 0in -81pt 0pt 0in" class=MsoNormal align=left><FONT color=#000000><SPAN style="mso-spacerun: yes">&nbsp\;&nbsp\;&nbsp\;&nbsp\;&nbsp\;&nbsp\;&nbsp\;&nbsp\;&nbsp\;&nbsp\;&nbsp\;&nbsp\;&nbsp\;&nbsp\;&nbsp\;&nbsp\;&nbsp\;</SPAN>PMC &amp\; Health Fair located at <st1:PlaceType w:st="on">Mt.</st1:PlaceType> <st1:PlaceName w:st="on">Hebron</st1:PlaceName> <st1:PlaceType w:st="on">Church</st1:PlaceType>\,<st1:Street w:st="on"><st1:address w:st="on">1233 State Hwy</st1:address></st1:Street> 66\, <st1:place w:st="on"><st1:City w:st="on">Garland</st1:City>\,<st1:State w:st="on">TX</st1:State></st1:place></FONT></P><P style="MARGIN: 0in -81pt 0pt 0in" class=MsoNormal align=left><o:p><FONT color=#000000>&nbsp\;</FONT></o:p></P><P style="MARGIN: 0in -81pt 0pt 0in" class=MsoNormal align=left><o:p><FONT color=#000000>&nbsp\;</FONT></o:p></P>
LOCATION:
UID:e.2096.964
SEQUENCE:3
DTSTAMP:20260422T105541Z
URL:https://network.garlandchamber.com/events/details/donnie-mcclurkin-perfecting-music-conference-10-28-2011-964
END:VEVENT

END:VCALENDAR
