BEGIN:VCALENDAR
VERSION:2.0
PRODID:-//ChamberMaster//Event Calendar 2.0//EN
METHOD:PUBLISH
X-PUBLISHED-TTL:P3D
REFRESH-INTERVAL:P3D
CALSCALE:GREGORIAN
BEGIN:VEVENT
DTSTART:20090626T123000Z
DTEND:20090626T230000Z
X-MICROSOFT-CDO-ALLDAYEVENT:FALSE
SUMMARY:Double Header
DESCRIPTION:36 holes of golf\, 3 meals\, prizes and awards!  Then you can take the challenge?\n6:30 am breakfast at Oakridge Country Club\, with a 7:30 am SG start\;\nLunch at The Shores Country Club\, then a 1:30 pmSG start\;\nDinner\, Award Ceremony and Prizes immediately after tournament at The Shores Country Club.\nFormat: 2 person scramble
X-ALT-DESC;FMTTYPE=text/html:36 holes of golf\, 3 meals\, prizes and awards!  Then you can take the challenge?\n6:30 am breakfast at Oakridge Country Club\, with a 7:30 am SG start\;\nLunch at The Shores Country Club\, then a 1:30 pmSG start\;\nDinner\, Award Ceremony and Prizes immediately after tournament at The Shores Country Club.\nFormat: 2 person scramble
LOCATION:Oakridge Country Club and The Shores Country Club
UID:e.2096.17
SEQUENCE:3
DTSTAMP:20260424T023022Z
URL:https://network.garlandchamber.com/events/details/double-header-06-26-2009-17
END:VEVENT

END:VCALENDAR
