BEGIN:VCALENDAR
VERSION:2.0
PRODID:-//ChamberMaster//Event Calendar 2.0//EN
METHOD:PUBLISH
X-PUBLISHED-TTL:P3D
REFRESH-INTERVAL:P3D
CALSCALE:GREGORIAN
BEGIN:VEVENT
DTSTART:20061117T130000Z
DTEND:20061118T000000Z
X-MICROSOFT-CDO-ALLDAYEVENT:FALSE
SUMMARY:Drive Thru To Avoid The Flu
DESCRIPTION:Baylor Garland is holding its 2nd annual Drive Thru to Avoid the Flu event. Cost for flu shots is $20\, Medicare accepted\, but please bring card and photo I.D. Call 1-800-4BAYLOR to register for the event. Cash or check only.
X-ALT-DESC;FMTTYPE=text/html:Baylor Garland is holding its 2nd annual Drive Thru to Avoid the Flu event. Cost for flu shots is $20\, Medicare accepted\, but please bring card and photo I.D. Call 1-800-4BAYLOR to register for the event. Cash or check only.
LOCATION:Baylor Garland - behind Diabetes Education
UID:e.2096.41
SEQUENCE:3
DTSTAMP:20260425T223741Z
URL:https://network.garlandchamber.com/events/details/drive-thru-to-avoid-the-flu-11-17-2006-41
END:VEVENT

END:VCALENDAR
