BEGIN:VCALENDAR
VERSION:2.0
PRODID:-//ChamberMaster//Event Calendar 2.0//EN
METHOD:PUBLISH
X-PUBLISHED-TTL:P3D
REFRESH-INTERVAL:P3D
CALSCALE:GREGORIAN
BEGIN:VEVENT
DTSTART:20101215T223000Z
DTEND:20101216T013000Z
X-MICROSOFT-CDO-ALLDAYEVENT:FALSE
SUMMARY:Dunn & Dill CPA Open House & Ribbon Cutting
DESCRIPTION:
X-ALT-DESC;FMTTYPE=text/html:
LOCATION:Dunn & Dill Certified Public Accountants
UID:e.2096.852
SEQUENCE:3
DTSTAMP:20260423T011233Z
URL:https://network.garlandchamber.com/events/details/dunn-dill-cpa-open-house-ribbon-cutting-12-15-2010-852
END:VEVENT

END:VCALENDAR
