BEGIN:VCALENDAR
VERSION:2.0
PRODID:-//ChamberMaster//Event Calendar 2.0//EN
METHOD:PUBLISH
X-PUBLISHED-TTL:P3D
REFRESH-INTERVAL:P3D
CALSCALE:GREGORIAN
BEGIN:VEVENT
DTSTART:20110718T210000Z
DTEND:20110724T040000Z
X-MICROSOFT-CDO-ALLDAYEVENT:FALSE
SUMMARY:Eat at Chili's & Support the Urban League
DESCRIPTION:
X-ALT-DESC;FMTTYPE=text/html:
LOCATION:Chilli's
UID:e.2096.945
SEQUENCE:3
DTSTAMP:20260422T164705Z
URL:https://network.garlandchamber.com/events/details/eat-at-chili-s-support-the-urban-league-07-18-2011-945
END:VEVENT

END:VCALENDAR
