BEGIN:VCALENDAR
VERSION:2.0
PRODID:-//ChamberMaster//Event Calendar 2.0//EN
METHOD:PUBLISH
X-PUBLISHED-TTL:P3D
REFRESH-INTERVAL:P3D
CALSCALE:GREGORIAN
BEGIN:VEVENT
DTSTART:20090216T230000Z
DTEND:20090216T060000Z
X-MICROSOFT-CDO-ALLDAYEVENT:FALSE
SUMMARY:Eat at Two Rows and Support the Garland Summer Musicals
DESCRIPTION:
X-ALT-DESC;FMTTYPE=text/html:
LOCATION:Two Rows Restaurant
UID:e.2096.628
SEQUENCE:3
DTSTAMP:20260424T080217Z
URL:https://network.garlandchamber.com/events/details/eat-at-two-rows-and-support-the-garland-summer-musicals-02-16-2009-628
END:VEVENT

END:VCALENDAR
