BEGIN:VCALENDAR
VERSION:2.0
PRODID:-//ChamberMaster//Event Calendar 2.0//EN
METHOD:PUBLISH
X-PUBLISHED-TTL:P3D
REFRESH-INTERVAL:P3D
CALSCALE:GREGORIAN
BEGIN:VEVENT
DTSTART:20070621T210000Z
DTEND:20070622T000000Z
X-MICROSOFT-CDO-ALLDAYEVENT:FALSE
SUMMARY:Ebby Halliday's Summer Social - Benefitting New Beginning Ce
DESCRIPTION:
X-ALT-DESC;FMTTYPE=text/html:
LOCATION:
UID:e.2096.406
SEQUENCE:3
DTSTAMP:20260425T120550Z
URL:https://network.garlandchamber.com/events/details/ebby-halliday-s-summer-social-benefitting-new-beginning-ce-06-21-2007-406
END:VEVENT

END:VCALENDAR
