BEGIN:VCALENDAR
VERSION:2.0
PRODID:-//ChamberMaster//Event Calendar 2.0//EN
METHOD:PUBLISH
X-PUBLISHED-TTL:P3D
REFRESH-INTERVAL:P3D
CALSCALE:GREGORIAN
BEGIN:VEVENT
DTSTART:20070324T153000Z
DTEND:20070324T163000Z
X-MICROSOFT-CDO-ALLDAYEVENT:FALSE
SUMMARY:Edible Arrangements Grand Opening & Ribbon Cutting
DESCRIPTION:
X-ALT-DESC;FMTTYPE=text/html:
LOCATION:
UID:e.2096.370
SEQUENCE:3
DTSTAMP:20260425T164622Z
URL:https://network.garlandchamber.com/events/details/edible-arrangements-grand-opening-ribbon-cutting-03-24-2007-370
END:VEVENT

END:VCALENDAR
